BEGIN:VCALENDAR
VERSION:2.0
PRODID:-//Sumppi - ECPv6.15.18//NONSGML v1.0//EN
CALSCALE:GREGORIAN
METHOD:PUBLISH
X-ORIGINAL-URL:https://sumppi.net/en
X-WR-CALDESC:Events for Sumppi
REFRESH-INTERVAL;VALUE=DURATION:PT1H
X-Robots-Tag:noindex
X-PUBLISHED-TTL:PT1H
BEGIN:VTIMEZONE
TZID:Europe/Helsinki
BEGIN:DAYLIGHT
TZOFFSETFROM:+0200
TZOFFSETTO:+0300
TZNAME:EEST
DTSTART:20240331T010000
END:DAYLIGHT
BEGIN:STANDARD
TZOFFSETFROM:+0300
TZOFFSETTO:+0200
TZNAME:EET
DTSTART:20241027T010000
END:STANDARD
BEGIN:DAYLIGHT
TZOFFSETFROM:+0200
TZOFFSETTO:+0300
TZNAME:EEST
DTSTART:20250330T010000
END:DAYLIGHT
BEGIN:STANDARD
TZOFFSETFROM:+0300
TZOFFSETTO:+0200
TZNAME:EET
DTSTART:20251026T010000
END:STANDARD
BEGIN:DAYLIGHT
TZOFFSETFROM:+0200
TZOFFSETTO:+0300
TZNAME:EEST
DTSTART:20260329T010000
END:DAYLIGHT
BEGIN:STANDARD
TZOFFSETFROM:+0300
TZOFFSETTO:+0200
TZNAME:EET
DTSTART:20261025T010000
END:STANDARD
END:VTIMEZONE
BEGIN:VEVENT
DTSTART;TZID=Europe/Helsinki:20250916T160000
DTEND;TZID=Europe/Helsinki:20250916T170000
DTSTAMP:20260424T092928
CREATED:20250819T125131Z
LAST-MODIFIED:20250904T104154Z
UID:10000334-1758038400-1758042000@sumppi.net
SUMMARY:Kielikahvila Juuka
DESCRIPTION:Kielikahvila on kaikille avoin rento tapahtuma\, jossa voi opetella puhumaan suomea. Kielikahvilaan ovat tervetulleita kaiken tasoiset puhujat. Sujuva kielitaito ei ole vaatimus vaan myös aloittelijat ovat tervetulleita. \nVapaamuotoisen keskustelun ja pelien avulla pääset myös tutustumaan helposti uusiin ihmisiin. \nTapahtuma on maksuton ja myös lapset ovat tervetulleita! \nOsoite: Ellinkulma (Väyryläntie 1\, 83900 Juuka) \nLisätiedot\ntiia.saarelainen@juuka.fi tai tekstiviesti numeroon 050 911 7609 \n**************************** \nLanguage Cafe\nThe language café is a relaxed event open to everyone where you can learn to speak Finnish. Speakers of all levels are welcome at the language café. Fluent language skills are not required\, and beginners are also welcome. \nThrough informal conversations and games\, you’ll also have the chance to meet new people easily. \nThe event is free of charge\, and children are also welcome! \nAddress: Ellinkulma (Väyryläntie 1\, 83900 Juuka) \nMore information\ntiia.saarelainen@juuka.fi or texting 050 911 7609
URL:https://sumppi.net/en/tapahtuma/kielikahvila-juuka-2/
LOCATION:Ellinkulma\, Väyryläntie 1\, Juuka\, Finland
CATEGORIES:kielikahvila
ATTACH;FMTTYPE=image/jpeg:https://sumppi.net/wp-content/uploads/2025/08/Kielikahvila-Juuka-scaled.jpg
END:VEVENT
BEGIN:VEVENT
DTSTART;TZID=Europe/Helsinki:20250916T170000
DTEND;TZID=Europe/Helsinki:20250916T183000
DTSTAMP:20260424T092928
CREATED:20250825T071703Z
LAST-MODIFIED:20250915T121913Z
UID:10000342-1758042000-1758047400@sumppi.net
SUMMARY:Kulttuurikahvila
DESCRIPTION:Ensi tiistaina (16.9.) kulttuurikahvilassa soi musiikki! \nTervetuloa viettämään iloista karaokeiltaa ja tutustumaan kappaleisiin ympäri maailmaa! \nOnko sinulla lempibiisi? Kuunnellaan ja lauletaan sitä yhdessä! \nLuvassa myös pieni konsertti\, siis tule vaan nauttimaan musiikkia kahvikupin äärellä. \nTapahtuma on maksuton eikä tarvitse ilmoittautua etukäteen. \n___________________________ \nNext Tuesday (September 16) music is playing in The Cultural Café! \nWelcome to spend a karaoke evening and get to know songs from around the world! \nDo you have a favorite song? Let’s listen and sing it together! \nWe will have a small concert – just come and enjoy the music with a cup of coffee. \nThe event is free and you don’t need to register in advance. \n_______________________________ \nВ следующий вторник (16.9.) в культурном кафе будет играть музыка! Добро пожаловать на весёлый вечер караоке и знакомство с песнями со всего мира! У вас есть любимая песня? Давайте послушаем её и споём вместе! Также будет небольшой концерт\, так что просто приходите и наслаждайтесь музыкой за чашечкой кофе!  \nУчастие в мероприятии безплатное\, и вам не нужно регистрироваться заранее.
URL:https://sumppi.net/en/tapahtuma/kulttuurikahvila-4/
LOCATION:Kontiotupa\, Koulukuja 4 A\, Kontiolahti\, Finland
CATEGORIES:kielikahvila,kulttuurikahvila
ATTACH;FMTTYPE=image/png:https://sumppi.net/wp-content/uploads/2025/08/Kontiotupa16.9.png
END:VEVENT
END:VCALENDAR