BEGIN:VCALENDAR
VERSION:2.0
PRODID:-//Sumppi - ECPv6.15.18//NONSGML v1.0//EN
CALSCALE:GREGORIAN
METHOD:PUBLISH
X-WR-CALNAME:Sumppi
X-ORIGINAL-URL:https://sumppi.net/en
X-WR-CALDESC:Events for Sumppi
REFRESH-INTERVAL;VALUE=DURATION:PT1H
X-Robots-Tag:noindex
X-PUBLISHED-TTL:PT1H
BEGIN:VTIMEZONE
TZID:Europe/Helsinki
BEGIN:DAYLIGHT
TZOFFSETFROM:+0200
TZOFFSETTO:+0300
TZNAME:EEST
DTSTART:20250330T010000
END:DAYLIGHT
BEGIN:STANDARD
TZOFFSETFROM:+0300
TZOFFSETTO:+0200
TZNAME:EET
DTSTART:20251026T010000
END:STANDARD
BEGIN:DAYLIGHT
TZOFFSETFROM:+0200
TZOFFSETTO:+0300
TZNAME:EEST
DTSTART:20260329T010000
END:DAYLIGHT
BEGIN:STANDARD
TZOFFSETFROM:+0300
TZOFFSETTO:+0200
TZNAME:EET
DTSTART:20261025T010000
END:STANDARD
BEGIN:DAYLIGHT
TZOFFSETFROM:+0200
TZOFFSETTO:+0300
TZNAME:EEST
DTSTART:20270328T010000
END:DAYLIGHT
BEGIN:STANDARD
TZOFFSETFROM:+0300
TZOFFSETTO:+0200
TZNAME:EET
DTSTART:20271031T010000
END:STANDARD
END:VTIMEZONE
BEGIN:VEVENT
DTSTART;TZID=Europe/Helsinki:20260126T170000
DTEND;TZID=Europe/Helsinki:20260126T183000
DTSTAMP:20260423T172714
CREATED:20260120T114859Z
LAST-MODIFIED:20260120T115055Z
UID:10000384-1769446800-1769452200@sumppi.net
SUMMARY:Kielikahvila Heinävedellä
DESCRIPTION:Kielikahvila Heinävedellä ☕\nMa 26.1. klo 17–18.30 \nTeemme ruokaa yhdessä ja puhumme suomea.\nVoit tulla\, vaikka osaat vain vähän suomea.\nTule yksin tai koko perheen kanssa. \nIlmainen ja avoin kaikille.\nTervetuloa! \n******************\nLanguage Café in Heinävesi ☕\nMon 26 Jan\, 5:00–6:30 pm \nWe cook together and speak Finnish.\nYou can come even if you know only a little Finnish.\nCome alone or with your whole family. \nFree and open to everyone.\nWelcome!
URL:https://sumppi.net/en/tapahtuma/kielikahvila-heinavedella/
LOCATION:Heinäveden kotouttamispiste\, Sairaalantie 4 C 3\, Heinävesi\, Finland
CATEGORIES:kielikahvila,kokkaus
ATTACH;FMTTYPE=image/png:https://sumppi.net/wp-content/uploads/2026/01/HvesiKielikahvila26.1.2026.png
END:VEVENT
END:VCALENDAR