BEGIN:VCALENDAR
VERSION:2.0
PRODID:-//Sumppi - ECPv6.15.18//NONSGML v1.0//EN
CALSCALE:GREGORIAN
METHOD:PUBLISH
X-WR-CALNAME:Sumppi
X-ORIGINAL-URL:https://sumppi.net/en
X-WR-CALDESC:Events for Sumppi
REFRESH-INTERVAL;VALUE=DURATION:PT1H
X-Robots-Tag:noindex
X-PUBLISHED-TTL:PT1H
BEGIN:VTIMEZONE
TZID:Europe/Helsinki
BEGIN:DAYLIGHT
TZOFFSETFROM:+0200
TZOFFSETTO:+0300
TZNAME:EEST
DTSTART:20240331T010000
END:DAYLIGHT
BEGIN:STANDARD
TZOFFSETFROM:+0300
TZOFFSETTO:+0200
TZNAME:EET
DTSTART:20241027T010000
END:STANDARD
BEGIN:DAYLIGHT
TZOFFSETFROM:+0200
TZOFFSETTO:+0300
TZNAME:EEST
DTSTART:20250330T010000
END:DAYLIGHT
BEGIN:STANDARD
TZOFFSETFROM:+0300
TZOFFSETTO:+0200
TZNAME:EET
DTSTART:20251026T010000
END:STANDARD
BEGIN:DAYLIGHT
TZOFFSETFROM:+0200
TZOFFSETTO:+0300
TZNAME:EEST
DTSTART:20260329T010000
END:DAYLIGHT
BEGIN:STANDARD
TZOFFSETFROM:+0300
TZOFFSETTO:+0200
TZNAME:EET
DTSTART:20261025T010000
END:STANDARD
END:VTIMEZONE
BEGIN:VEVENT
DTSTART;TZID=Europe/Helsinki:20251202T180000
DTEND;TZID=Europe/Helsinki:20251202T193000
DTSTAMP:20260423T202522
CREATED:20250819T115845Z
LAST-MODIFIED:20250819T115845Z
UID:10000331-1764698400-1764703800@sumppi.net
SUMMARY:Kulttuurikahvila: Leivotaan yhdessä
DESCRIPTION:Leivotaan pipareita ja joulutorttuja\nJouluinen tuoksu täyttää tilan\, kun leivomme perinteisiä suomalaisia pipareita ja joulutorttuja yhdessä. Käymme myös keskustelua muiden maiden jouluun tai muihin juhliin liittyvistä ruuista ja tavoista. Jos herkkuja jää\, niin ne voi viedä kotiin mennessään.\n*****************\nA festive scent will fill the room as we bake traditional Finnish gingerbread cookies and Christmas tarts together. We will also talk about foods and traditions related to Christmas or other celebrations in different countries. If there are any treats left\, you can take them home with you.
URL:https://sumppi.net/en/tapahtuma/kulttuurikahvila-leivotaan-yhdessa/
LOCATION:Ylämyllyn Jäkäläpolku\, Jäkäläpolku 2 B 8\, Ylämylly\, Finland
CATEGORIES:kokkaus,kulttuurikahvila
ATTACH;FMTTYPE=image/jpeg:https://sumppi.net/wp-content/uploads/2025/08/joulu-liperi.jpg
END:VEVENT
BEGIN:VEVENT
DTSTART;TZID=Europe/Helsinki:20251203T150000
DTEND;TZID=Europe/Helsinki:20251203T180000
DTSTAMP:20260423T202522
CREATED:20251128T095135Z
LAST-MODIFIED:20251128T095135Z
UID:10000363-1764774000-1764784800@sumppi.net
SUMMARY:Joululeivonta
DESCRIPTION:Leivo joulua Marttojen kanssa\nTervetuloa joululeivontaan keskiviikkona 3.12.2025 klo 15.00–18.00 kansanopiston Aurinkosaliin.\nMartat opastavat joululeivonnaisten teossa. Tule mukaan nauttimaan jouluisesta tunnelmasta! \nBake Christmas Treats with Martta Association members\nWelcome to a Christmas baking event on Wednesday\, December 3rd\, 2025\, from 3:00–6:00 PM at the folk high school Aurinkosali.\nMarttas will guide you in making traditional Christmas treats. Join us for a cozy festive moment!
URL:https://sumppi.net/en/tapahtuma/joululeivontaa/
LOCATION:Kiteen kansanopisto\, Opistontie 7\, Kitee\, 82500\, Finland
CATEGORIES:kielikahvila,kokkaus
ATTACH;FMTTYPE=image/png:https://sumppi.net/wp-content/uploads/2025/11/Joululeivonta-3.12.25.png
END:VEVENT
END:VCALENDAR