BEGIN:VCALENDAR
VERSION:2.0
PRODID:-//Sumppi - ECPv6.15.18//NONSGML v1.0//EN
CALSCALE:GREGORIAN
METHOD:PUBLISH
X-WR-CALNAME:Sumppi
X-ORIGINAL-URL:https://sumppi.net/en
X-WR-CALDESC:Events for Sumppi
REFRESH-INTERVAL;VALUE=DURATION:PT1H
X-Robots-Tag:noindex
X-PUBLISHED-TTL:PT1H
BEGIN:VTIMEZONE
TZID:Europe/Helsinki
BEGIN:DAYLIGHT
TZOFFSETFROM:+0200
TZOFFSETTO:+0300
TZNAME:EEST
DTSTART:20250330T010000
END:DAYLIGHT
BEGIN:STANDARD
TZOFFSETFROM:+0300
TZOFFSETTO:+0200
TZNAME:EET
DTSTART:20251026T010000
END:STANDARD
BEGIN:DAYLIGHT
TZOFFSETFROM:+0200
TZOFFSETTO:+0300
TZNAME:EEST
DTSTART:20260329T010000
END:DAYLIGHT
BEGIN:STANDARD
TZOFFSETFROM:+0300
TZOFFSETTO:+0200
TZNAME:EET
DTSTART:20261025T010000
END:STANDARD
BEGIN:DAYLIGHT
TZOFFSETFROM:+0200
TZOFFSETTO:+0300
TZNAME:EEST
DTSTART:20270328T010000
END:DAYLIGHT
BEGIN:STANDARD
TZOFFSETFROM:+0300
TZOFFSETTO:+0200
TZNAME:EET
DTSTART:20271031T010000
END:STANDARD
END:VTIMEZONE
BEGIN:VEVENT
DTSTART;TZID=Europe/Helsinki:20260210T170000
DTEND;TZID=Europe/Helsinki:20260210T183000
DTSTAMP:20260420T035623
CREATED:20260112T093121Z
LAST-MODIFIED:20260209T074004Z
UID:10000366-1770742800-1770748200@sumppi.net
SUMMARY:Kulttuurikahvila Kontiotuvalla
DESCRIPTION:Tervetuloa ystävänpäiväkahveille Kulttuurikahvilaan! \nMonissa maissa ystävänpäivä liittyy romanttiseen rakkauteen\, mutta Suomessa päivä keskittyy erityisesti ystävyyteen. Silloin muistetaan ystäviä\, kavereita ja läheisiä ihmisiä. Monet lähettävät kortteja\, viestejä tai antavat pieniä lahjoja. \nVoit askarrella kortteja\, juoda kahvia tai teetä tai vain kuunnella oneonetwo päivästä (11.2.). Mutta mikä se on? Tämä selviää ensi tiistaina. \nOta perhe\, ystävät ja kaverit mukaan ja tavataan Kontiotuvalla 10.2. klo 17:00 alkaen. \nNähdään! \n——— \nWelcome to Valentine’s Day coffee to The Cultural Café! \nIn many countries Valentine’s Day is associated with romantic love\, but in Finland the day focuses especially on friendship. It’s a day to remember friends\, mates and loved ones. Many people send cards\, messages or give small gifts. \nYou can make cards\, drink coffee or tea or just listen about Oneonetwo Day (11 February). But what day is it? We’ll find out next Tuesday. \nBring your family\, friends and colleagues and let’s meet up in Kontiotupa 10 February from 5 p.m.! \nSee you! \n—— \n Добро пожаловать в Kulttuurikahvila праздновать День святого Валентина! \nВо многих странах День святого Валентина ассоциируется с романтической любовью\, но в Финляндии этот день особенно сосредоточен на дружбе. Это время вспомнить друзей\, знакомых и близких людей. Многие отправляют открытки\, сообщения или дарят небольшие подарки.\nВы можете создавать карточки\, пить кофе или чай или просто слушать Oneonetwo День (11.2). Но что это такое? Это станет ясно в следующий вторник.\nПриведите свою семью\, своих коллег и друзей и увидимся в Kontiotupa 10 февраля с 17:00.\nУвидимся!
URL:https://sumppi.net/en/tapahtuma/kulttuurikahvila-kontiotuvalla-2/
LOCATION:Kontiotupa\, Koulukuja 4 A\, Kontiolahti\, Finland
CATEGORIES:kielikahvila,kulttuurikahvila
ATTACH;FMTTYPE=image/jpeg:https://sumppi.net/wp-content/uploads/2026/01/kahvila-10.2.jpg
END:VEVENT
BEGIN:VEVENT
DTSTART;TZID=Europe/Helsinki:20260224T170000
DTEND;TZID=Europe/Helsinki:20260224T183000
DTSTAMP:20260420T035623
CREATED:20260112T093147Z
LAST-MODIFIED:20260218T095229Z
UID:10000367-1771952400-1771957800@sumppi.net
SUMMARY:Kulttuurikahvila Kontiotuvalla
DESCRIPTION:Lämpimästi tervetuloa ruokakurssille 24.2. – Kulttuurikahvilassa tutustutaan myanmarilaiseen ruokaan! \nVietetään mukavaa monikulttuurista iltaa herkullisen ruoan kera. \nTeemme yhdessä kookoskana-nuudelit\, limemehu ja jälkiruoka \n❗️ Lapset ovat tervetulleita! \n        Maksutonta osallistujille. \nIlmoittautuminen: maarit.sallinen@martat.fi tai Majalle: maja.szwarczewska@kontiolahti.fi\, 050 3099250. \nNähdään Kontiotuvalla klo 17 – Koulukuja 4\, Kontiolahti. \n_______ \nA warm welcome to the cooking course 24 February 2026 – in The Cultural Café you get to know Myanmar food! \nLet’s spend a nice multicultural evening with delicious food. \nWe’ll make coconut chicken noodles\, lime juice and dessert together. \nChildren are welcome! \nFree of charge for participants. \nRegistration: maarit.sallinen@martat.fi or to Maja: maja.szwarczewska@kontiolahti.fi\, 050 3099250. \nSee you in Kontiotupa at 5 p.m. – address: Koulukuja 4\, Kontiolahti. \n_______ \nДобро пожаловать на кулинарный курс  24.2. – В Kulttuurikahvila можно познакомиться с мьянманской кухней! \nДавайте устроим приятный мультикультурный вечер со вкусной едой. \nВместе мы приготовим кокосовую куриную лапшу\, сок лайма и десерт. \nДети приветствуются! \nБесплатно для участников. \nРегистрация: maarit.sallinen@martat.fi или Maja: maja.szwarczewska@kontiolahti.fi\, 050 3099250. \nУвидимся в Kontiotupa в 17:00 — Koulukuja 4\, Kontiolahti.
URL:https://sumppi.net/en/tapahtuma/kulttuurikahvila-kontiotuvalla-3/
LOCATION:Kontiotupa\, Koulukuja 4 A\, Kontiolahti\, Finland
CATEGORIES:kielikahvila,kokkaus,kulttuurikahvila
ATTACH;FMTTYPE=image/jpeg:https://sumppi.net/wp-content/uploads/2026/01/ruokakurssi-24.2.jpg
END:VEVENT
END:VCALENDAR