BEGIN:VCALENDAR
VERSION:2.0
PRODID:-//Sumppi - ECPv6.15.18//NONSGML v1.0//EN
CALSCALE:GREGORIAN
METHOD:PUBLISH
X-ORIGINAL-URL:https://sumppi.net/en
X-WR-CALDESC:Events for Sumppi
REFRESH-INTERVAL;VALUE=DURATION:PT1H
X-Robots-Tag:noindex
X-PUBLISHED-TTL:PT1H
BEGIN:VTIMEZONE
TZID:Europe/Helsinki
BEGIN:DAYLIGHT
TZOFFSETFROM:+0200
TZOFFSETTO:+0300
TZNAME:EEST
DTSTART:20250330T010000
END:DAYLIGHT
BEGIN:STANDARD
TZOFFSETFROM:+0300
TZOFFSETTO:+0200
TZNAME:EET
DTSTART:20251026T010000
END:STANDARD
BEGIN:DAYLIGHT
TZOFFSETFROM:+0200
TZOFFSETTO:+0300
TZNAME:EEST
DTSTART:20260329T010000
END:DAYLIGHT
BEGIN:STANDARD
TZOFFSETFROM:+0300
TZOFFSETTO:+0200
TZNAME:EET
DTSTART:20261025T010000
END:STANDARD
BEGIN:DAYLIGHT
TZOFFSETFROM:+0200
TZOFFSETTO:+0300
TZNAME:EEST
DTSTART:20270328T010000
END:DAYLIGHT
BEGIN:STANDARD
TZOFFSETFROM:+0300
TZOFFSETTO:+0200
TZNAME:EET
DTSTART:20271031T010000
END:STANDARD
END:VTIMEZONE
BEGIN:VEVENT
DTSTART;TZID=Europe/Helsinki:20260324T170000
DTEND;TZID=Europe/Helsinki:20260324T183000
DTSTAMP:20260419T231209
CREATED:20260112T093226Z
LAST-MODIFIED:20260319T083816Z
UID:10000369-1774371600-1774377000@sumppi.net
SUMMARY:Kulttuurikahvila Kontiotuvalla
DESCRIPTION:Tervetuloa 24.3. Kulttuurikahvilaan nauttimaan kevään ja pääsiäisen tunnelmia! \nEnsi viikolla keskustelemme mm. pääsiäisen perinteistä eri kulttuurien näkökulmasta ja pääsemme tekemään omat virpomisvitsat. \nKoristelemme yhdessä pajunoksat ja samalla mietimme\, mitä virpominen Suomessa tarkoittaa ja millaisia toivotuksia ja loruja perinteisesti esitetään. \nTule mukaan – täällä on helppo oppia uutta\, sekä kieltä että eri kulttuureiden perinteitä! \nTapahtuma on maksuton. Tarvikkeet saat paikan päältä. \n24.3. klo 17–18:30 \nKontiotupa – Koulukuja 4\, Kontiolahti \n_____ \nWelcome to The Cultural Café on 24 March to enjoy the spirit of spring and Easter! \nNext week we will talk about Easter traditions from the perspectives of different cultures and everyone will have the chance to make their own virpomisvitsa (decorated willow twig). \nWe will decorate the willow branches together and explore what virpominen means in Finland\, as well as the traditional wishes and rhymes that are typically recited. \nJoin us – this is an easy and friendly place to learn something new\, whether it’s language skills or cultural traditions! \nThe event is free of charge. All materials are provided on-site. \n24 March 2026 at 5 p.m. \naddress: Kontiotupa – Koulukuja 4\, Kontiolahti \n_____ \nДобро пожаловать 24.3. в Kulttuurikahvila\, чтобы насладиться атмосферой весны и Пасхи! \nНа следующей неделе мы обсудим пасхальные традиции с точки зрения разных культур и сможем сделать собственные палочки. \nВместе мы будем украшать ветви ивы и одновременно думать о том\, что значит быть освежающим в Финляндии и какие пожелания и рифмы традиционно произносятся. \nИдите со мной — здесь легко узнать новое\, как язык\, так и разные культурные традиции! \nМероприятие проходит бесплатно. Принадлежности можно приобрести прямо на месте. \n24.3. в 17–18:30 \nKontiotupa – Koulukuja 4\, Kontiolahti \nMore info: Maja Szwarczewska\, puh. 050 309 9250\, maja.szwarczewska@kontiolahti.fi
URL:https://sumppi.net/en/tapahtuma/kulttuurikahvila-kontiotuvalla-5/
LOCATION:Kontiotupa\, Koulukuja 4 A\, Kontiolahti\, Finland
CATEGORIES:kielikahvila,kulttuurikahvila
ATTACH;FMTTYPE=image/jpeg:https://sumppi.net/wp-content/uploads/2026/01/24.3.jpg
END:VEVENT
END:VCALENDAR