BEGIN:VCALENDAR
VERSION:2.0
PRODID:-//Sumppi - ECPv6.15.18//NONSGML v1.0//EN
CALSCALE:GREGORIAN
METHOD:PUBLISH
X-WR-CALNAME:Sumppi
X-ORIGINAL-URL:https://sumppi.net/en
X-WR-CALDESC:Events for Sumppi
REFRESH-INTERVAL;VALUE=DURATION:PT1H
X-Robots-Tag:noindex
X-PUBLISHED-TTL:PT1H
BEGIN:VTIMEZONE
TZID:Europe/Helsinki
BEGIN:DAYLIGHT
TZOFFSETFROM:+0200
TZOFFSETTO:+0300
TZNAME:EEST
DTSTART:20250330T010000
END:DAYLIGHT
BEGIN:STANDARD
TZOFFSETFROM:+0300
TZOFFSETTO:+0200
TZNAME:EET
DTSTART:20251026T010000
END:STANDARD
BEGIN:DAYLIGHT
TZOFFSETFROM:+0200
TZOFFSETTO:+0300
TZNAME:EEST
DTSTART:20260329T010000
END:DAYLIGHT
BEGIN:STANDARD
TZOFFSETFROM:+0300
TZOFFSETTO:+0200
TZNAME:EET
DTSTART:20261025T010000
END:STANDARD
BEGIN:DAYLIGHT
TZOFFSETFROM:+0200
TZOFFSETTO:+0300
TZNAME:EEST
DTSTART:20270328T010000
END:DAYLIGHT
BEGIN:STANDARD
TZOFFSETFROM:+0300
TZOFFSETTO:+0200
TZNAME:EET
DTSTART:20271031T010000
END:STANDARD
END:VTIMEZONE
BEGIN:VEVENT
DTSTART;TZID=Europe/Helsinki:20260211T180000
DTEND;TZID=Europe/Helsinki:20260211T193000
DTSTAMP:20260423T144024
CREATED:20260126T105130Z
LAST-MODIFIED:20260126T105137Z
UID:10000364-1770832800-1770838200@sumppi.net
SUMMARY:Musakahvio
DESCRIPTION:Kansanopiston Musakahvila juhlistaa ystävyyttä keskiviikkona 11.2.2026 klo 18.00–19.30 Kansanopiston ruokasalissa. \nIllan aikana kokoonnumme rennosti kahvikupin äärelle\, juttelemme tuttujen kanssa ja nautimme musiikista. Musakahvila on lämminhenkinen kohtaamispaikka\, jossa musiikki\, tarinat ja yhdessäolo ovat pääosassa. \nVapaa pääsy – tervetuloa mukaan! \n📍 Paikka: Kansanopiston ruokasali\n🕕 Aika: ke 11.2.2026 klo 18.00–19.30 \nMusic Café  \nThe Folk High School Music Café celebrates friendship on Wednesday\, 11 February 2026\, from 6:00 pm to 7:30 pm in the Folk High School dining hall. \nJoin us for a relaxed evening with coffee\, conversation\, and live music. The Music Café is a welcoming meeting place where people come together to share stories\, enjoy music\, and spend time together in a warm and friendly atmosphere. \nFree entry – everyone is welcome! \n📍 Location: Folk High School dining hall\n🕕 Time: Wed 11 Feb 2026\, 6:00–7:30 pm
URL:https://sumppi.net/en/tapahtuma/musakahvio/
LOCATION:Kiteen kansanopisto\, Opistontie 7\, Kitee\, 82500\, Finland
CATEGORIES:kielikahvila,musiikkikielikahvila
ATTACH;FMTTYPE=image/png:https://sumppi.net/wp-content/uploads/2026/01/Coming-Soon-11-1.png
END:VEVENT
END:VCALENDAR