BEGIN:VCALENDAR
VERSION:2.0
PRODID:-//Sumppi - ECPv6.15.18//NONSGML v1.0//EN
CALSCALE:GREGORIAN
METHOD:PUBLISH
X-ORIGINAL-URL:https://sumppi.net/en
X-WR-CALDESC:Events for Sumppi
REFRESH-INTERVAL;VALUE=DURATION:PT1H
X-Robots-Tag:noindex
X-PUBLISHED-TTL:PT1H
BEGIN:VTIMEZONE
TZID:Europe/Helsinki
BEGIN:DAYLIGHT
TZOFFSETFROM:+0200
TZOFFSETTO:+0300
TZNAME:EEST
DTSTART:20240331T010000
END:DAYLIGHT
BEGIN:STANDARD
TZOFFSETFROM:+0300
TZOFFSETTO:+0200
TZNAME:EET
DTSTART:20241027T010000
END:STANDARD
BEGIN:DAYLIGHT
TZOFFSETFROM:+0200
TZOFFSETTO:+0300
TZNAME:EEST
DTSTART:20250330T010000
END:DAYLIGHT
BEGIN:STANDARD
TZOFFSETFROM:+0300
TZOFFSETTO:+0200
TZNAME:EET
DTSTART:20251026T010000
END:STANDARD
BEGIN:DAYLIGHT
TZOFFSETFROM:+0200
TZOFFSETTO:+0300
TZNAME:EEST
DTSTART:20260329T010000
END:DAYLIGHT
BEGIN:STANDARD
TZOFFSETFROM:+0300
TZOFFSETTO:+0200
TZNAME:EET
DTSTART:20261025T010000
END:STANDARD
END:VTIMEZONE
BEGIN:VEVENT
DTSTART;TZID=Europe/Helsinki:20251117T160000
DTEND;TZID=Europe/Helsinki:20251117T170000
DTSTAMP:20260424T001924
CREATED:20250818T132002Z
LAST-MODIFIED:20250818T132002Z
UID:10000321-1763395200-1763398800@sumppi.net
SUMMARY:Alkeistason suomea
DESCRIPTION:Aloittelijoille suunnattu kielikahvila kokoontuu joka toinen maanantai klo 16–17 ajalla 15.9.–15.12.2025 (ei viikolla 42). Ryhmässä harjoitellaan arjen tilanteissa tarvittavia fraaseja ja sanastoa\, kuten tervehtimistä\, esittäytymistä\, kaupassa ja kahvilassa asioimista\, kodin ja perheen sanastoa\, ruokaa sekä ajan ilmaisemista. Englanti toimii tukikielenä\, jotta oppiminen on sujuvaa. Tapaamiset Google Meetin kautta vaikka älypuhelimella. Lisämateriaalia on saatavilla Peda.net-oppimisympäristössä. Ryhmä kokoontuu yhteensä seitsemän kertaa. Voit tulla mukaan kun pääset! Ei erikseen ilmoittautumista. Tapaamisen linkki: https://meet.google.com/jdq-aiaa-gmk
URL:https://sumppi.net/en/tapahtuma/alkeistason-suomea-4/
CATEGORIES:verkkokielikahvila
ATTACH;FMTTYPE=image/png:https://sumppi.net/wp-content/uploads/2025/08/suomen-alkeet.png
LOCATION:https://sumppi.net/en/tapahtuma/alkeistason-suomea-4/
END:VEVENT
BEGIN:VEVENT
DTSTART;TZID=Europe/Helsinki:20251117T170000
DTEND;TZID=Europe/Helsinki:20251117T180000
DTSTAMP:20260424T001924
CREATED:20250818T130112Z
LAST-MODIFIED:20250818T130112Z
UID:10000314-1763398800-1763402400@sumppi.net
SUMMARY:Kulttuuria ja keskustelua maanantai-iltaisin
DESCRIPTION:Kulttuuriteemainen kielikahvila järjestetään joka toinen maanantai klo 17–18 ajalla 15.9.–15.12.2025 (ei viikolla 42). Ryhmä on suunnattu tasosta A1.3 eteenpäin. Keskustelemme ja harjoittelemme suomen kieltä erilaisten aiheiden kautta\, kuten suomalaisten juhlien ja tapojen\, musiikin\, luonnon\, ruokakulttuurin sekä suomalaisen arjen. Lisämateriaalia on saatavilla Peda.net-oppimisympäristössä. Käytämme englantia tukikielenä. Ryhmä kokoontuu yhteensä seitsemän kertaa. Ilmoittautuminen 12.9. mennessä: anu.alhainen@kiteenkansanopisto.fi
URL:https://sumppi.net/en/tapahtuma/kulttuuria-ja-keskustelua-maanantai-iltaisin-5/
CATEGORIES:verkkokielikahvila
ATTACH;FMTTYPE=image/png:https://sumppi.net/wp-content/uploads/2025/08/Kulttuuri-verkkokahvila.png
LOCATION:https://sumppi.net/en/tapahtuma/kulttuuria-ja-keskustelua-maanantai-iltaisin-5/
END:VEVENT
BEGIN:VEVENT
DTSTART;TZID=Europe/Helsinki:20251120T170000
DTEND;TZID=Europe/Helsinki:20251120T180000
DTSTAMP:20260424T001924
CREATED:20250818T120853Z
LAST-MODIFIED:20250818T121331Z
UID:10000307-1763658000-1763661600@sumppi.net
SUMMARY:Kieli haltuun! Kielioppia torstai-iltaisin
DESCRIPTION:Torstai-iltojen kielikahvila järjestetään klo 17–18 ajalla 5.9.–27.11.2025 (ei viikolla 42). Ryhmä on suunnattu tasosta A1.3 eteenpäin. Kyseessä on kielioppipainotteinen ryhmä\, jossa joka kerralla käsitellään uusi teema suomen kielen opettajan johdolla. Harjoittelemme esimerkiksi imperfektiä\, partitiivia ja sanajärjestystä askel kerrallaan rennossa ilmapiirissä. Lisämateriaalia on saatavilla Peda.net-oppimisympäristössä. Ryhmä kokoontuu yhteensä 12 kertaa. Ilmoittautuminen elokuun loppuun mennessä: anu.alhainen@kiteenkansanopisto.fi
URL:https://sumppi.net/en/tapahtuma/kieli-haltuun-kielioppia-torstai-iltaisin-11/
CATEGORIES:verkkokielikahvila
ATTACH;FMTTYPE=image/png:https://sumppi.net/wp-content/uploads/2025/08/Online-learning-class-welcome-poster-1.png
LOCATION:https://sumppi.net/en/tapahtuma/kieli-haltuun-kielioppia-torstai-iltaisin-11/
END:VEVENT
END:VCALENDAR