BEGIN:VCALENDAR
VERSION:2.0
PRODID:-//Sumppi - ECPv6.15.18//NONSGML v1.0//EN
CALSCALE:GREGORIAN
METHOD:PUBLISH
X-ORIGINAL-URL:https://sumppi.net/en
X-WR-CALDESC:Events for Sumppi
REFRESH-INTERVAL;VALUE=DURATION:PT1H
X-Robots-Tag:noindex
X-PUBLISHED-TTL:PT1H
BEGIN:VTIMEZONE
TZID:Europe/Helsinki
BEGIN:DAYLIGHT
TZOFFSETFROM:+0200
TZOFFSETTO:+0300
TZNAME:EEST
DTSTART:20250330T010000
END:DAYLIGHT
BEGIN:STANDARD
TZOFFSETFROM:+0300
TZOFFSETTO:+0200
TZNAME:EET
DTSTART:20251026T010000
END:STANDARD
BEGIN:DAYLIGHT
TZOFFSETFROM:+0200
TZOFFSETTO:+0300
TZNAME:EEST
DTSTART:20260329T010000
END:DAYLIGHT
BEGIN:STANDARD
TZOFFSETFROM:+0300
TZOFFSETTO:+0200
TZNAME:EET
DTSTART:20261025T010000
END:STANDARD
BEGIN:DAYLIGHT
TZOFFSETFROM:+0200
TZOFFSETTO:+0300
TZNAME:EEST
DTSTART:20270328T010000
END:DAYLIGHT
BEGIN:STANDARD
TZOFFSETFROM:+0300
TZOFFSETTO:+0200
TZNAME:EET
DTSTART:20271031T010000
END:STANDARD
END:VTIMEZONE
BEGIN:VEVENT
DTSTART;TZID=Europe/Helsinki:20260220T080000
DTEND;TZID=Europe/Helsinki:20260220T090000
DTSTAMP:20260423T144533
CREATED:20260218T094818Z
LAST-MODIFIED:20260218T094818Z
UID:10000393-1771574400-1771578000@sumppi.net
SUMMARY:Kielikahvila verkossa: Uutisia & kielioppia
DESCRIPTION:Kielikahvila verkossa: Uutisia & kielioppia\nLiity rentoon kielikahvilaan\, jossa harjoittelemme suomea ajankohtaisten uutisten avulla.\nPe 20.2. klo 8-9 Teams\nKeskustelemme uutisista\, harjoittelemme sanastoa ja kielioppia\nKaikille suomen kielen opiskelijoille tasosta riippumatta. Ei ilmoittautumista ennakkoon.\n☕ Ota kahvia ja tule puhumaan suomea mukavassa seurassa!  \nTeams-linkki: https://teams.microsoft.com/meet/38335016198879?p=TPzYZ7xOi1k5tfzkOu
URL:https://sumppi.net/en/tapahtuma/kielikahvila-verkossa-uutisia-kielioppia/
CATEGORIES:kielikahvila,verkkokielikahvila
ATTACH;FMTTYPE=image/jpeg:https://sumppi.net/wp-content/uploads/2026/02/Uutisia-ja-kielioppia-20.2.26.jpg
END:VEVENT
END:VCALENDAR