BEGIN:VCALENDAR
VERSION:2.0
PRODID:-//Sumppi - ECPv6.15.18//NONSGML v1.0//EN
CALSCALE:GREGORIAN
METHOD:PUBLISH
X-WR-CALNAME:Sumppi
X-ORIGINAL-URL:https://sumppi.net/en
X-WR-CALDESC:Events for Sumppi
REFRESH-INTERVAL;VALUE=DURATION:PT1H
X-Robots-Tag:noindex
X-PUBLISHED-TTL:PT1H
BEGIN:VTIMEZONE
TZID:Europe/Helsinki
BEGIN:DAYLIGHT
TZOFFSETFROM:+0200
TZOFFSETTO:+0300
TZNAME:EEST
DTSTART:20240331T010000
END:DAYLIGHT
BEGIN:STANDARD
TZOFFSETFROM:+0300
TZOFFSETTO:+0200
TZNAME:EET
DTSTART:20241027T010000
END:STANDARD
BEGIN:DAYLIGHT
TZOFFSETFROM:+0200
TZOFFSETTO:+0300
TZNAME:EEST
DTSTART:20250330T010000
END:DAYLIGHT
BEGIN:STANDARD
TZOFFSETFROM:+0300
TZOFFSETTO:+0200
TZNAME:EET
DTSTART:20251026T010000
END:STANDARD
BEGIN:DAYLIGHT
TZOFFSETFROM:+0200
TZOFFSETTO:+0300
TZNAME:EEST
DTSTART:20260329T010000
END:DAYLIGHT
BEGIN:STANDARD
TZOFFSETFROM:+0300
TZOFFSETTO:+0200
TZNAME:EET
DTSTART:20261025T010000
END:STANDARD
END:VTIMEZONE
BEGIN:VEVENT
DTSTART;TZID=Europe/Helsinki:20250929T160000
DTEND;TZID=Europe/Helsinki:20250929T170000
DTSTAMP:20260423T234414
CREATED:20250818T131845Z
LAST-MODIFIED:20250818T131845Z
UID:10000318-1759161600-1759165200@sumppi.net
SUMMARY:Alkeistason suomea
DESCRIPTION:Aloittelijoille suunnattu kielikahvila kokoontuu joka toinen maanantai klo 16–17 ajalla 15.9.–15.12.2025 (ei viikolla 42). Ryhmässä harjoitellaan arjen tilanteissa tarvittavia fraaseja ja sanastoa\, kuten tervehtimistä\, esittäytymistä\, kaupassa ja kahvilassa asioimista\, kodin ja perheen sanastoa\, ruokaa sekä ajan ilmaisemista. Englanti toimii tukikielenä\, jotta oppiminen on sujuvaa. Tapaamiset Google Meetin kautta vaikka älypuhelimella. Lisämateriaalia on saatavilla Peda.net-oppimisympäristössä. Ryhmä kokoontuu yhteensä seitsemän kertaa. Voit tulla mukaan kun pääset! Ei erikseen ilmoittautumista. Tapaamisen linkki: https://meet.google.com/jdq-aiaa-gmk
URL:https://sumppi.net/en/tapahtuma/alkeistason-suomea/
CATEGORIES:verkkokielikahvila
ATTACH;FMTTYPE=image/png:https://sumppi.net/wp-content/uploads/2025/08/suomen-alkeet.png
LOCATION:https://sumppi.net/en/tapahtuma/alkeistason-suomea/
END:VEVENT
BEGIN:VEVENT
DTSTART;TZID=Europe/Helsinki:20250929T170000
DTEND;TZID=Europe/Helsinki:20250929T180000
DTSTAMP:20260423T234414
CREATED:20250818T125834Z
LAST-MODIFIED:20250818T125834Z
UID:10000313-1759165200-1759168800@sumppi.net
SUMMARY:Kulttuuria ja keskustelua maanantai-iltaisin
DESCRIPTION:Kulttuuriteemainen kielikahvila järjestetään joka toinen maanantai klo 17–18 ajalla 15.9.–15.12.2025 (ei viikolla 42). Ryhmä on suunnattu tasosta A1.3 eteenpäin. Keskustelemme ja harjoittelemme suomen kieltä erilaisten aiheiden kautta\, kuten suomalaisten juhlien ja tapojen\, musiikin\, luonnon\, ruokakulttuurin sekä suomalaisen arjen. Lisämateriaalia on saatavilla Peda.net-oppimisympäristössä. Käytämme englantia tukikielenä. Ryhmä kokoontuu yhteensä seitsemän kertaa. Ilmoittautuminen 12.9. mennessä: anu.alhainen@kiteenkansanopisto.fi
URL:https://sumppi.net/en/tapahtuma/kulttuuria-ja-keskustelua-maanantai-iltaisin-2/
CATEGORIES:verkkokielikahvila
ATTACH;FMTTYPE=image/png:https://sumppi.net/wp-content/uploads/2025/08/Kulttuuri-verkkokahvila.png
LOCATION:https://sumppi.net/en/tapahtuma/kulttuuria-ja-keskustelua-maanantai-iltaisin-2/
END:VEVENT
BEGIN:VEVENT
DTSTART;TZID=Europe/Helsinki:20250930T160000
DTEND;TZID=Europe/Helsinki:20250930T170000
DTSTAMP:20260423T234414
CREATED:20250819T125154Z
LAST-MODIFIED:20250819T125154Z
UID:10000335-1759248000-1759251600@sumppi.net
SUMMARY:Kielikahvila Juuka
DESCRIPTION:Kielikahvila on kaikille avoin rento tapahtuma\, jossa voi opetella puhumaan suomea. Kielikahvilaan ovat tervetulleita kaiken tasoiset puhujat. Sujuva kielitaito ei ole vaatimus vaan myös aloittelijat ovat tervetulleita. \nVapaamuotoisen keskustelun ja pelien avulla pääset myös tutustumaan helposti uusiin ihmisiin. \nTapahtuma on maksuton ja myös lapset ovat tervetulleita! \nOsoite: Ellinkulma (Väyryläntie 1\, 83900 Juuka) \nLisätiedot\ntiia.saarelainen@juuka.fi tai tekstiviesti numeroon 050 911 7609 \n**************************** \nLanguage Cafe\nThe language café is a relaxed event open to everyone where you can learn to speak Finnish. Speakers of all levels are welcome at the language café. Fluent language skills are not required\, and beginners are also welcome. \nThrough informal conversations and games\, you’ll also have the chance to meet new people easily. \nThe event is free of charge\, and children are also welcome! \nAddress: Ellinkulma (Väyryläntie 1\, 83900 Juuka) \nMore information\ntiia.saarelainen@juuka.fi or texting 050 911 7609
URL:https://sumppi.net/en/tapahtuma/kielikahvila-juuka-3/
LOCATION:Ellinkulma\, Väyryläntie 1\, Juuka\, Finland
CATEGORIES:kielikahvila
ATTACH;FMTTYPE=image/jpeg:https://sumppi.net/wp-content/uploads/2025/08/Kielikahvila-Juuka-scaled.jpg
END:VEVENT
BEGIN:VEVENT
DTSTART;TZID=Europe/Helsinki:20250930T170000
DTEND;TZID=Europe/Helsinki:20250930T183000
DTSTAMP:20260423T234414
CREATED:20250825T071721Z
LAST-MODIFIED:20250926T082639Z
UID:10000343-1759251600-1759257000@sumppi.net
SUMMARY:Kulttuurikahvila
DESCRIPTION:Syksyinen metsä on täynnä aarteita\, joita voit löytää ihan polun varrelta! \nEnsi viikolla 30.9. tapaamme kulttuurikahvilassa klo 15:30 ja menemme yhdessä lähimetsään sieniretkelle. \nKlo 17:00 tulemme takaisin Kontiotuvalle – tutkimme yhdessä löytyneitä sieniä ja keskustelemme sienien tuntomerkeistä iltapala kera. \nMukana on Maarit Arjen aarteita luonnosta-hankkeesta\, joka opastaa meitä sienien keräyksessä ja tunnistuksessa. \n(Lisää hankkeesta: https://www.martat.fi/…/arjen-aarteet-luonnosta-2025-2026/). \nRetkelle klo 15:30 ota mukaan sään mukaiset vaatteet ja kengät\, joilla on hyvä kävellä märässä metsässä (esim. kumisaappaat). \nVoit myös tulla vasta klo 17:00 Kontiotuvalle keskustelemaan ja kahville. \nTulkaa vaikka koko perheen voimin! \nTapahtuma on maksuton eikä tarvitse ilmoittautua etukäteen. \n_______________________________ \nThe autumn forest is full of treasures that you can find right along the path! \nNext week\, September 30th\, we will meet in The Cultural Café at 3:30 p.m. and go a mushroom picking in the nearby forest. \nAt 5 p.m. we will return to Kontiotuva and discuss the characteristics of mushrooms we found. We also have evening snack. \nWith us is Maarit from Arjen aarteita luonnosta-project\, which guides us in collecting and identifying mushrooms. \nFor the trip at 3:30 p.m.\, please bring clothes suitable for the weather and shoes that are good for walking in a wet forest (e.g. rubber boots). \nYou can also come just for a chat and coffee at 5 p.m to Kontiotupa. \nCome with the whole family! \nThe event is free and there is no need to register in advance. \n________________________________ \nОсенний лес полон сокровищ\, которые можно найти прямо вдоль тропы! \nНа следующей неделе\, 30 сентября\, мы встретимся в Kulttuurikahvila в 15:30 и вместе отправимся собирать грибы в близлежащий лес. \nВ 17:00 мы вернемся в Kontiotupa – вместе изучим найденные грибы и обсудим характеристики грибов за вечерним перекусом. \nMaarit из проекта «Повседневные сокровища природы»\, который помогает нам собирать и идентифицировать грибы. \nНа поездку в 15:30 возьмите с собой соответствующую погоде одежду и обувь\, которая подходит для прогулок по мокрому лесу (например\, резиновые сапоги). \nВы также можете прийти в Kontiotupa в 17:00 для обсуждения и кофе. \nПриходите всей семьей! \nУчастие в мероприятии бесплатное\, и вам не нужно регистрироваться заранее. \nMore info: Maja Szwarczewska\, puh. 050 309 9250\, maja.szwarczewska@kontiolahti.fi
URL:https://sumppi.net/en/tapahtuma/kulttuurikahvila-5/
LOCATION:Kontiotupa\, Koulukuja 4 A\, Kontiolahti\, Finland
CATEGORIES:kielikahvila,kulttuurikahvila
ATTACH;FMTTYPE=image/png:https://sumppi.net/wp-content/uploads/2025/08/Kulttuurikahvila-30.9.png
END:VEVENT
BEGIN:VEVENT
DTSTART;TZID=Europe/Helsinki:20251001T180000
DTEND;TZID=Europe/Helsinki:20251001T193000
DTSTAMP:20260423T234414
CREATED:20250930T084655Z
LAST-MODIFIED:20250930T084655Z
UID:10000361-1759341600-1759347000@sumppi.net
SUMMARY:Musakahvila
DESCRIPTION:Kansanopiston Musakahvila järjestetäänkeskiviikkona 1.10.2025 klo 18.00–19.30 Kiteen kansanopiston ruokasalissa\, jossa vietetään iltaa musiikin parissa ja lauletaan yhdessä rennossa tunnelmassa. Musakahvila tarjoaa mahdollisuuden tavata tuttuja\, jutella ja nauttia kahvista hyvässä seurassa sekä harjoitella ja käyttää suomen kieltä laulaen ja keskustellen. Illan aikana on tarjolla nuorten tekemiä kahvileipiä ostettavaksi. Tapahtumaan on vapaa pääsy ja kaikki ovat lämpimästi tervetulleita koko perheen voimin. \n************* \nThe Folk High School’s Music Café will take place on Wednesday\, 1 October 2025\, from 18:00 to 19:30 in the dining hall of Kiteen Evankelinen Kansanopisto\, where the evening will be spent with music and relaxed group singing. The Music Café offers a chance to meet friends\, chat\, and enjoy coffee in good company while practicing and using the Finnish language through singing and conversation. Homemade pastries baked by young people will be available for purchase. The event is free of charge\, and everyone is warmly welcome to join with the whole family.
URL:https://sumppi.net/en/tapahtuma/musakahvila-5/
LOCATION:Kiteen kansanopisto\, Opistontie 7\, Kitee\, 82500\, Finland
CATEGORIES:musiikkikielikahvila
ATTACH;FMTTYPE=image/png:https://sumppi.net/wp-content/uploads/2025/09/Coming-Soon-10-1.png
END:VEVENT
BEGIN:VEVENT
DTSTART;TZID=Europe/Helsinki:20251002T170000
DTEND;TZID=Europe/Helsinki:20251002T180000
DTSTAMP:20260423T234414
CREATED:20250818T120208Z
LAST-MODIFIED:20250818T121121Z
UID:10000297-1759424400-1759428000@sumppi.net
SUMMARY:Kieli haltuun! Kielioppia torstai-iltaisin
DESCRIPTION:Torstai-iltojen kielikahvila järjestetään klo 17–18 ajalla 5.9.–27.11.2025 (ei viikolla 42). Ryhmä on suunnattu tasosta A1.3 eteenpäin. Kyseessä on kielioppipainotteinen ryhmä\, jossa joka kerralla käsitellään uusi teema suomen kielen opettajan johdolla. Harjoittelemme esimerkiksi imperfektiä\, partitiivia ja sanajärjestystä askel kerrallaan rennossa ilmapiirissä. Lisämateriaalia on saatavilla Peda.net-oppimisympäristössä. Ryhmä kokoontuu yhteensä 12 kertaa. Ilmoittautuminen elokuun loppuun mennessä: anu.alhainen@kiteenkansanopisto.fi
URL:https://sumppi.net/en/tapahtuma/kieli-haltuun-kielioppia-torstai-iltaisin-4/
CATEGORIES:verkkokielikahvila
ATTACH;FMTTYPE=image/png:https://sumppi.net/wp-content/uploads/2025/08/Online-learning-class-welcome-poster-1.png
LOCATION:https://sumppi.net/en/tapahtuma/kieli-haltuun-kielioppia-torstai-iltaisin-4/
END:VEVENT
BEGIN:VEVENT
DTSTART;TZID=Europe/Helsinki:20251007T180000
DTEND;TZID=Europe/Helsinki:20251007T193000
DTSTAMP:20260423T234414
CREATED:20250819T114949Z
LAST-MODIFIED:20250819T115216Z
UID:10000327-1759860000-1759865400@sumppi.net
SUMMARY:Kulttuurikahvila: Musiikkia ympäri maailman
DESCRIPTION:Musiikkia ympäri maailman\nMusiikki yhdistää yli rajojen! Nyt on levyraadin paikka! Tule ja tuo tullessasi omaa mielimusiikkiasia tai kotimaasi musiikkia. Eli tällä kerralla kuunnellaan Tule kuuntelemaan\, eri maiden säveliä ja tutustutaan musiikkiin eri puolilta maailmaa. Laulaa ei tarvitse mutta toki saa\, jos haluaa 😊\n*********************\nMusic connects us across borders! Now it’s time for a music panel! Come and bring your favorite music or songs from your home country. This time\, we will listen to melodies from different countries and explore music from around the world. You don’t have to sing\, but you’re welcome to if you want 😊
URL:https://sumppi.net/en/tapahtuma/kulttuurikahvila-musiikkia-ympari-maailman/
LOCATION:Ylämyllyn Jäkäläpolku\, Jäkäläpolku 2 B 8\, Ylämylly\, Finland
CATEGORIES:kulttuurikahvila,musiikkikielikahvila
ATTACH;FMTTYPE=image/jpeg:https://sumppi.net/wp-content/uploads/2025/08/liperi-musiikkikahvila.jpg
END:VEVENT
BEGIN:VEVENT
DTSTART;TZID=Europe/Helsinki:20251009T170000
DTEND;TZID=Europe/Helsinki:20251009T180000
DTSTAMP:20260423T234414
CREATED:20250818T120447Z
LAST-MODIFIED:20250818T121145Z
UID:10000302-1760029200-1760032800@sumppi.net
SUMMARY:Kieli haltuun! Kielioppia torstai-iltaisin
DESCRIPTION:Torstai-iltojen kielikahvila järjestetään klo 17–18 ajalla 5.9.–27.11.2025 (ei viikolla 42). Ryhmä on suunnattu tasosta A1.3 eteenpäin. Kyseessä on kielioppipainotteinen ryhmä\, jossa joka kerralla käsitellään uusi teema suomen kielen opettajan johdolla. Harjoittelemme esimerkiksi imperfektiä\, partitiivia ja sanajärjestystä askel kerrallaan rennossa ilmapiirissä. Lisämateriaalia on saatavilla Peda.net-oppimisympäristössä. Ryhmä kokoontuu yhteensä 12 kertaa. Ilmoittautuminen elokuun loppuun mennessä: anu.alhainen@kiteenkansanopisto.fi
URL:https://sumppi.net/en/tapahtuma/kieli-haltuun-kielioppia-torstai-iltaisin-9/
CATEGORIES:verkkokielikahvila
ATTACH;FMTTYPE=image/png:https://sumppi.net/wp-content/uploads/2025/08/Online-learning-class-welcome-poster-1.png
LOCATION:https://sumppi.net/en/tapahtuma/kieli-haltuun-kielioppia-torstai-iltaisin-9/
END:VEVENT
BEGIN:VEVENT
DTSTART;TZID=Europe/Helsinki:20251014T160000
DTEND;TZID=Europe/Helsinki:20251014T170000
DTSTAMP:20260423T234414
CREATED:20250819T125217Z
LAST-MODIFIED:20250819T125217Z
UID:10000336-1760457600-1760461200@sumppi.net
SUMMARY:Kielikahvila Juuka
DESCRIPTION:Kielikahvila on kaikille avoin rento tapahtuma\, jossa voi opetella puhumaan suomea. Kielikahvilaan ovat tervetulleita kaiken tasoiset puhujat. Sujuva kielitaito ei ole vaatimus vaan myös aloittelijat ovat tervetulleita. \nVapaamuotoisen keskustelun ja pelien avulla pääset myös tutustumaan helposti uusiin ihmisiin. \nTapahtuma on maksuton ja myös lapset ovat tervetulleita! \nOsoite: Ellinkulma (Väyryläntie 1\, 83900 Juuka) \nLisätiedot\ntiia.saarelainen@juuka.fi tai tekstiviesti numeroon 050 911 7609 \n**************************** \nLanguage Cafe\nThe language café is a relaxed event open to everyone where you can learn to speak Finnish. Speakers of all levels are welcome at the language café. Fluent language skills are not required\, and beginners are also welcome. \nThrough informal conversations and games\, you’ll also have the chance to meet new people easily. \nThe event is free of charge\, and children are also welcome! \nAddress: Ellinkulma (Väyryläntie 1\, 83900 Juuka) \nMore information\ntiia.saarelainen@juuka.fi or texting 050 911 7609
URL:https://sumppi.net/en/tapahtuma/kielikahvila-juuka-4/
LOCATION:Ellinkulma\, Väyryläntie 1\, Juuka\, Finland
CATEGORIES:kielikahvila
ATTACH;FMTTYPE=image/jpeg:https://sumppi.net/wp-content/uploads/2025/08/Kielikahvila-Juuka-scaled.jpg
END:VEVENT
END:VCALENDAR