BEGIN:VCALENDAR
VERSION:2.0
PRODID:-//Sumppi - ECPv6.15.18//NONSGML v1.0//EN
CALSCALE:GREGORIAN
METHOD:PUBLISH
X-WR-CALNAME:Sumppi
X-ORIGINAL-URL:https://sumppi.net/en
X-WR-CALDESC:Events for Sumppi
REFRESH-INTERVAL;VALUE=DURATION:PT1H
X-Robots-Tag:noindex
X-PUBLISHED-TTL:PT1H
BEGIN:VTIMEZONE
TZID:Europe/Helsinki
BEGIN:DAYLIGHT
TZOFFSETFROM:+0200
TZOFFSETTO:+0300
TZNAME:EEST
DTSTART:20240331T010000
END:DAYLIGHT
BEGIN:STANDARD
TZOFFSETFROM:+0300
TZOFFSETTO:+0200
TZNAME:EET
DTSTART:20241027T010000
END:STANDARD
BEGIN:DAYLIGHT
TZOFFSETFROM:+0200
TZOFFSETTO:+0300
TZNAME:EEST
DTSTART:20250330T010000
END:DAYLIGHT
BEGIN:STANDARD
TZOFFSETFROM:+0300
TZOFFSETTO:+0200
TZNAME:EET
DTSTART:20251026T010000
END:STANDARD
BEGIN:DAYLIGHT
TZOFFSETFROM:+0200
TZOFFSETTO:+0300
TZNAME:EEST
DTSTART:20260329T010000
END:DAYLIGHT
BEGIN:STANDARD
TZOFFSETFROM:+0300
TZOFFSETTO:+0200
TZNAME:EET
DTSTART:20261025T010000
END:STANDARD
END:VTIMEZONE
BEGIN:VEVENT
DTSTART;TZID=Europe/Helsinki:20251021T180000
DTEND;TZID=Europe/Helsinki:20251021T193000
DTSTAMP:20260424T011017
CREATED:20250819T115039Z
LAST-MODIFIED:20250819T115118Z
UID:10000328-1761069600-1761075000@sumppi.net
SUMMARY:Kulttuurikahvila: Musiikkia ympäri maailman
DESCRIPTION:Musiikkia ympäri maailman\nMusiikki yhdistää yli rajojen! Nyt on levyraadin paikka! Tule ja tuo tullessasi omaa mielimusiikkiasia tai kotimaasi musiikkia. Eli tällä kerralla kuunnellaan Tule kuuntelemaan\, eri maiden säveliä ja tutustutaan musiikkiin eri puolilta maailmaa. Laulaa ei tarvitse mutta toki saa\, jos haluaa 😊\n***********************\nMusic connects us across borders! Now it’s time for a music panel! Come and bring your favorite music or songs from your home country. This time\, we will listen to melodies from different countries and explore music from around the world. You don’t have to sing\, but you’re welcome to if you want 😊
URL:https://sumppi.net/en/tapahtuma/kulttuurikahvila-musiikkia-ympari-maailman-2/
LOCATION:Liperin koulu\, Koulutie 2\, Liperi\, Finland
CATEGORIES:kulttuurikahvila,musiikkikielikahvila
ATTACH;FMTTYPE=image/jpeg:https://sumppi.net/wp-content/uploads/2025/08/liperi-musiikkikahvila.jpg
END:VEVENT
BEGIN:VEVENT
DTSTART;TZID=Europe/Helsinki:20251023T170000
DTEND;TZID=Europe/Helsinki:20251023T180000
DTSTAMP:20260424T011017
CREATED:20250818T120300Z
LAST-MODIFIED:20250818T121205Z
UID:10000298-1761238800-1761242400@sumppi.net
SUMMARY:Kieli haltuun! Kielioppia torstai-iltaisin
DESCRIPTION:Torstai-iltojen kielikahvila järjestetään klo 17–18 ajalla 5.9.–27.11.2025 (ei viikolla 42). Ryhmä on suunnattu tasosta A1.3 eteenpäin. Kyseessä on kielioppipainotteinen ryhmä\, jossa joka kerralla käsitellään uusi teema suomen kielen opettajan johdolla. Harjoittelemme esimerkiksi imperfektiä\, partitiivia ja sanajärjestystä askel kerrallaan rennossa ilmapiirissä. Lisämateriaalia on saatavilla Peda.net-oppimisympäristössä. Ryhmä kokoontuu yhteensä 12 kertaa. Ilmoittautuminen elokuun loppuun mennessä: anu.alhainen@kiteenkansanopisto.fi
URL:https://sumppi.net/en/tapahtuma/kieli-haltuun-kielioppia-torstai-iltaisin-5/
LOCATION:https://sumppi.net/en/tapahtuma/kieli-haltuun-kielioppia-torstai-iltaisin-5/
CATEGORIES:verkkokielikahvila
ATTACH;FMTTYPE=image/png:https://sumppi.net/wp-content/uploads/2025/08/Online-learning-class-welcome-poster-1.png
END:VEVENT
BEGIN:VEVENT
DTSTART;TZID=Europe/Helsinki:20251028T160000
DTEND;TZID=Europe/Helsinki:20251028T170000
DTSTAMP:20260424T011017
CREATED:20250819T125243Z
LAST-MODIFIED:20250819T125243Z
UID:10000337-1761667200-1761670800@sumppi.net
SUMMARY:Kielikahvila Juuka
DESCRIPTION:Kielikahvila on kaikille avoin rento tapahtuma\, jossa voi opetella puhumaan suomea. Kielikahvilaan ovat tervetulleita kaiken tasoiset puhujat. Sujuva kielitaito ei ole vaatimus vaan myös aloittelijat ovat tervetulleita. \nVapaamuotoisen keskustelun ja pelien avulla pääset myös tutustumaan helposti uusiin ihmisiin. \nTapahtuma on maksuton ja myös lapset ovat tervetulleita! \nOsoite: Ellinkulma (Väyryläntie 1\, 83900 Juuka) \nLisätiedot\ntiia.saarelainen@juuka.fi tai tekstiviesti numeroon 050 911 7609 \n**************************** \nLanguage Cafe\nThe language café is a relaxed event open to everyone where you can learn to speak Finnish. Speakers of all levels are welcome at the language café. Fluent language skills are not required\, and beginners are also welcome. \nThrough informal conversations and games\, you’ll also have the chance to meet new people easily. \nThe event is free of charge\, and children are also welcome! \nAddress: Ellinkulma (Väyryläntie 1\, 83900 Juuka) \nMore information\ntiia.saarelainen@juuka.fi or texting 050 911 7609
URL:https://sumppi.net/en/tapahtuma/kielikahvila-juuka-5/
LOCATION:Ellinkulma\, Väyryläntie 1\, Juuka\, Finland
CATEGORIES:kielikahvila
ATTACH;FMTTYPE=image/jpeg:https://sumppi.net/wp-content/uploads/2025/08/Kielikahvila-Juuka-scaled.jpg
END:VEVENT
BEGIN:VEVENT
DTSTART;TZID=Europe/Helsinki:20251028T160000
DTEND;TZID=Europe/Helsinki:20251028T180000
DTSTAMP:20260424T011017
CREATED:20250922T110735Z
LAST-MODIFIED:20250922T110735Z
UID:10000360-1761667200-1761674400@sumppi.net
SUMMARY:Yhdessä suomeksi
DESCRIPTION:Yhdessä Suomeksi -kielikahvila on tiistaina 28.10.2025 klo 16.00–18.00 Valmennusympäristö Kuparissa (Kummunkatu 21\, Outokumpu).\nTämän kerran aihe on hyvinvointi – tule juttelemaan ja harjoittelemaan suomen kieltä rennossa ilmapiirissä. \nKielikahvila on hyvä paikka tavata ihmisiä\, saada uusia kavereita ja oppia suomea keskustellen.\nTapahtuma on maksuton ja kaikille avoin – lämpimästi tervetuloa! \n******************** \nThe Yhdessä Suomeksi Language Café will be held on Tuesday\, 28 October 2025\, from 16:00 to 18:00 at Valmennusympäristö Kupari (Kummunkatu 21\, Outokumpu).\nThis session’s theme is well-being – come chat\, share ideas\, and practice Finnish while talking about health and everyday wellness in a relaxed atmosphere. \nThe Language Café is a great opportunity to meet new people\, make friends\, and improve your Finnish through conversation and fun activities.\nThe event is free of charge and open to everyone – warmly welcome!
URL:https://sumppi.net/en/tapahtuma/yhdessa-suomeksi-2/
LOCATION:Valmennusympäristö Kupari\, Kummunkatu 21\, Outokumpu\, Finland
CATEGORIES:hyvinvointi,kielikahvila
ATTACH;FMTTYPE=image/png:https://sumppi.net/wp-content/uploads/2025/09/kielikahvilatOutokummussa.png
END:VEVENT
BEGIN:VEVENT
DTSTART;TZID=Europe/Helsinki:20251030T170000
DTEND;TZID=Europe/Helsinki:20251030T180000
DTSTAMP:20260424T011017
CREATED:20250818T120409Z
LAST-MODIFIED:20250818T121227Z
UID:10000300-1761843600-1761847200@sumppi.net
SUMMARY:Kieli haltuun! Kielioppia torstai-iltaisin
DESCRIPTION:Torstai-iltojen kielikahvila järjestetään klo 17–18 ajalla 5.9.–27.11.2025 (ei viikolla 42). Ryhmä on suunnattu tasosta A1.3 eteenpäin. Kyseessä on kielioppipainotteinen ryhmä\, jossa joka kerralla käsitellään uusi teema suomen kielen opettajan johdolla. Harjoittelemme esimerkiksi imperfektiä\, partitiivia ja sanajärjestystä askel kerrallaan rennossa ilmapiirissä. Lisämateriaalia on saatavilla Peda.net-oppimisympäristössä. Ryhmä kokoontuu yhteensä 12 kertaa. Ilmoittautuminen elokuun loppuun mennessä: anu.alhainen@kiteenkansanopisto.fi
URL:https://sumppi.net/en/tapahtuma/kieli-haltuun-kielioppia-torstai-iltaisin-7/
LOCATION:https://sumppi.net/en/tapahtuma/kieli-haltuun-kielioppia-torstai-iltaisin-7/
CATEGORIES:verkkokielikahvila
ATTACH;FMTTYPE=image/png:https://sumppi.net/wp-content/uploads/2025/08/Online-learning-class-welcome-poster-1.png
END:VEVENT
END:VCALENDAR