BEGIN:VCALENDAR
VERSION:2.0
PRODID:-//Sumppi - ECPv6.15.18//NONSGML v1.0//EN
CALSCALE:GREGORIAN
METHOD:PUBLISH
X-WR-CALNAME:Sumppi
X-ORIGINAL-URL:https://sumppi.net/en
X-WR-CALDESC:Events for Sumppi
REFRESH-INTERVAL;VALUE=DURATION:PT1H
X-Robots-Tag:noindex
X-PUBLISHED-TTL:PT1H
BEGIN:VTIMEZONE
TZID:Europe/Helsinki
BEGIN:DAYLIGHT
TZOFFSETFROM:+0200
TZOFFSETTO:+0300
TZNAME:EEST
DTSTART:20240331T010000
END:DAYLIGHT
BEGIN:STANDARD
TZOFFSETFROM:+0300
TZOFFSETTO:+0200
TZNAME:EET
DTSTART:20241027T010000
END:STANDARD
BEGIN:DAYLIGHT
TZOFFSETFROM:+0200
TZOFFSETTO:+0300
TZNAME:EEST
DTSTART:20250330T010000
END:DAYLIGHT
BEGIN:STANDARD
TZOFFSETFROM:+0300
TZOFFSETTO:+0200
TZNAME:EET
DTSTART:20251026T010000
END:STANDARD
BEGIN:DAYLIGHT
TZOFFSETFROM:+0200
TZOFFSETTO:+0300
TZNAME:EEST
DTSTART:20260329T010000
END:DAYLIGHT
BEGIN:STANDARD
TZOFFSETFROM:+0300
TZOFFSETTO:+0200
TZNAME:EET
DTSTART:20261025T010000
END:STANDARD
END:VTIMEZONE
BEGIN:VEVENT
DTSTART;TZID=Europe/Helsinki:20251201T160000
DTEND;TZID=Europe/Helsinki:20251201T170000
DTSTAMP:20260423T131608
CREATED:20250818T132023Z
LAST-MODIFIED:20250818T132023Z
UID:10000322-1764604800-1764608400@sumppi.net
SUMMARY:Alkeistason suomea
DESCRIPTION:Aloittelijoille suunnattu kielikahvila kokoontuu joka toinen maanantai klo 16–17 ajalla 15.9.–15.12.2025 (ei viikolla 42). Ryhmässä harjoitellaan arjen tilanteissa tarvittavia fraaseja ja sanastoa\, kuten tervehtimistä\, esittäytymistä\, kaupassa ja kahvilassa asioimista\, kodin ja perheen sanastoa\, ruokaa sekä ajan ilmaisemista. Englanti toimii tukikielenä\, jotta oppiminen on sujuvaa. Tapaamiset Google Meetin kautta vaikka älypuhelimella. Lisämateriaalia on saatavilla Peda.net-oppimisympäristössä. Ryhmä kokoontuu yhteensä seitsemän kertaa. Voit tulla mukaan kun pääset! Ei erikseen ilmoittautumista. Tapaamisen linkki: https://meet.google.com/jdq-aiaa-gmk
URL:https://sumppi.net/en/tapahtuma/alkeistason-suomea-5/
CATEGORIES:verkkokielikahvila
ATTACH;FMTTYPE=image/png:https://sumppi.net/wp-content/uploads/2025/08/suomen-alkeet.png
LOCATION:https://sumppi.net/en/tapahtuma/alkeistason-suomea-5/
END:VEVENT
BEGIN:VEVENT
DTSTART;TZID=Europe/Helsinki:20251201T170000
DTEND;TZID=Europe/Helsinki:20251201T180000
DTSTAMP:20260423T131608
CREATED:20250818T130139Z
LAST-MODIFIED:20250818T130139Z
UID:10000315-1764608400-1764612000@sumppi.net
SUMMARY:Kulttuuria ja keskustelua maanantai-iltaisin
DESCRIPTION:Kulttuuriteemainen kielikahvila järjestetään joka toinen maanantai klo 17–18 ajalla 15.9.–15.12.2025 (ei viikolla 42). Ryhmä on suunnattu tasosta A1.3 eteenpäin. Keskustelemme ja harjoittelemme suomen kieltä erilaisten aiheiden kautta\, kuten suomalaisten juhlien ja tapojen\, musiikin\, luonnon\, ruokakulttuurin sekä suomalaisen arjen. Lisämateriaalia on saatavilla Peda.net-oppimisympäristössä. Käytämme englantia tukikielenä. Ryhmä kokoontuu yhteensä seitsemän kertaa. Ilmoittautuminen 12.9. mennessä: anu.alhainen@kiteenkansanopisto.fi
URL:https://sumppi.net/en/tapahtuma/kulttuuria-ja-keskustelua-maanantai-iltaisin-6/
CATEGORIES:verkkokielikahvila
ATTACH;FMTTYPE=image/png:https://sumppi.net/wp-content/uploads/2025/08/Kulttuuri-verkkokahvila.png
LOCATION:https://sumppi.net/en/tapahtuma/kulttuuria-ja-keskustelua-maanantai-iltaisin-6/
END:VEVENT
BEGIN:VEVENT
DTSTART;TZID=Europe/Helsinki:20251202T170000
DTEND;TZID=Europe/Helsinki:20251202T183000
DTSTAMP:20260423T131608
CREATED:20250825T071854Z
LAST-MODIFIED:20251128T094225Z
UID:10000347-1764694800-1764700200@sumppi.net
SUMMARY:Kulttuurikahvila
DESCRIPTION:2.12. kulttuurikahvilassa vietämme iltaa yhdessä Kontiolahden Punaisen Ristin kanssa!\nJokainen voi löytää itselle jotain sopivaa tekemistä – leipomista\, käsitöitä\, juttelua tai vaikka vain keskustelun kuuntelemista.\n-tutustumme pikkujoulun perinteisiin\n-leivomme yhdessä pullaa ja torttuja\n-kokeilemme uutta käsityön menetelmää – kudontaa keppikehyksien avulla\n-saamme kuulla Punaisen Ristin toiminnasta\n-juomme joulukahvia\nTule mukaan oppimaan uutta\, tutustumaan uusiin ihmisiin ja viettämään pikkujoulua mukavassa seurassa!\nTervetuloa klo 17 Kontiotupaan!\n________\nOn December 2nd in The Cultural Café we will spend the evening together with the Kontiolahti Red Cross!\nEveryone can find there something suitable to do – baking\, crafts\, chatting or just listening to other people’s conversation!\n-we get to know about the tradition of Finnish pikkujoulu\n-we bake buns and joulutorttu\n-we try a new craft method – weaving using stick frames\n-we hear about the activities of the Red Cross\n-we drink joulukahvi\nCome along to learn something new\, meet new people and spend a pikkujoulu in good company!\nWelcome at 5 p.m. to Kontiotupa!\n________\n2 декабря мы проведём вечер в Культурном кафе вместе с Красным Крестом Контиолахти!\nКаждый может найти что-то подходящее для себя — выпечка\, рукоделие\, беседы или даже просто слушание разговора.\nДавайте познакомимся с традициями рождественской вечеринки\nМы вместе печём рождественские выпечки\nМы экспериментируем с новым методом рукоделия — ткачеством на самодельном станке\nМы слышим о деятельности Красного Креста\nМы пьём рождественский кофе \nПриходите\, узнавайте новое\, знакомьтесь с новыми людьми и проведите рождественскую вечеринку в приятной компании!\nДобро пожаловать в Kontiotupa в 17:00! \nLisätietoa\, more info: Maja Szwarczewska\, puh. 050 309 9250\, maja.szwarczewska@kontiolahti.fi
URL:https://sumppi.net/en/tapahtuma/kulttuurikahvila-9/
LOCATION:Kontiotupa\, Koulukuja 4 A\, Kontiolahti\, Finland
CATEGORIES:kielikahvila,kulttuurikahvila
ATTACH;FMTTYPE=image/jpeg:https://sumppi.net/wp-content/uploads/2025/08/Kulttuurikahvila-2.12.jpg
END:VEVENT
BEGIN:VEVENT
DTSTART;TZID=Europe/Helsinki:20251202T180000
DTEND;TZID=Europe/Helsinki:20251202T193000
DTSTAMP:20260423T131608
CREATED:20250819T115845Z
LAST-MODIFIED:20250819T115845Z
UID:10000331-1764698400-1764703800@sumppi.net
SUMMARY:Kulttuurikahvila: Leivotaan yhdessä
DESCRIPTION:Leivotaan pipareita ja joulutorttuja\nJouluinen tuoksu täyttää tilan\, kun leivomme perinteisiä suomalaisia pipareita ja joulutorttuja yhdessä. Käymme myös keskustelua muiden maiden jouluun tai muihin juhliin liittyvistä ruuista ja tavoista. Jos herkkuja jää\, niin ne voi viedä kotiin mennessään.\n*****************\nA festive scent will fill the room as we bake traditional Finnish gingerbread cookies and Christmas tarts together. We will also talk about foods and traditions related to Christmas or other celebrations in different countries. If there are any treats left\, you can take them home with you.
URL:https://sumppi.net/en/tapahtuma/kulttuurikahvila-leivotaan-yhdessa/
LOCATION:Ylämyllyn Jäkäläpolku\, Jäkäläpolku 2 B 8\, Ylämylly\, Finland
CATEGORIES:kokkaus,kulttuurikahvila
ATTACH;FMTTYPE=image/jpeg:https://sumppi.net/wp-content/uploads/2025/08/joulu-liperi.jpg
END:VEVENT
BEGIN:VEVENT
DTSTART;TZID=Europe/Helsinki:20251203T150000
DTEND;TZID=Europe/Helsinki:20251203T180000
DTSTAMP:20260423T131608
CREATED:20251128T095135Z
LAST-MODIFIED:20251128T095135Z
UID:10000363-1764774000-1764784800@sumppi.net
SUMMARY:Joululeivonta
DESCRIPTION:Leivo joulua Marttojen kanssa\nTervetuloa joululeivontaan keskiviikkona 3.12.2025 klo 15.00–18.00 kansanopiston Aurinkosaliin.\nMartat opastavat joululeivonnaisten teossa. Tule mukaan nauttimaan jouluisesta tunnelmasta! \nBake Christmas Treats with Martta Association members\nWelcome to a Christmas baking event on Wednesday\, December 3rd\, 2025\, from 3:00–6:00 PM at the folk high school Aurinkosali.\nMarttas will guide you in making traditional Christmas treats. Join us for a cozy festive moment!
URL:https://sumppi.net/en/tapahtuma/joululeivontaa/
LOCATION:Kiteen kansanopisto\, Opistontie 7\, Kitee\, 82500\, Finland
CATEGORIES:kielikahvila,kokkaus
ATTACH;FMTTYPE=image/png:https://sumppi.net/wp-content/uploads/2025/11/Joululeivonta-3.12.25.png
END:VEVENT
BEGIN:VEVENT
DTSTART;TZID=Europe/Helsinki:20251203T180000
DTEND;TZID=Europe/Helsinki:20251203T193000
DTSTAMP:20260423T131608
CREATED:20250922T105405Z
LAST-MODIFIED:20250922T105405Z
UID:10000358-1764784800-1764790200@sumppi.net
SUMMARY:Musakahvila
DESCRIPTION:Kansanopiston Musakahvila järjestetään joulutunnelmissa keskiviikkona 3.12.2025 klo 18.00–19.30 Kiteen kansanopiston ruokasalissa. Illan teemana on joulu ja suomalaiset jouluperinteet. Yhdessä opitaan jouluun liittyviä sanoja ja jutellaan joulusta rennossa ja lämpimässä ilmapiirissä. \nMusakahvila tarjoaa mahdollisuuden tavata tuttuja\, jutella ja nauttia kahvista samalla kun lauletaan joululauluja ja harjoitellaan suomen kieltä. \nIllan aikana on myytävänä nuorten tekemiä kahvileipiä. Tapahtumaan on vapaa pääsy ja kaikki ovat tervetulleita mukaan! \n************* \nThe Folk High School’s Music Café will be held in a Christmas atmosphere on Wednesday\, 3 December 2025\, from 18:00 to 19:30 in the dining hall of Kiteen Evankelinen Kansanopisto. The evening’s theme is Christmas and Finnish Christmas traditions. Together we will learn words related to Christmas and talk about Finnish holiday customs in a warm and relaxed setting. \nThe Music Café offers a chance to meet friends\, chat\, and enjoy coffee while singing Christmas songs and practicing Finnish. \nHomemade pastries baked by young people will be available for purchase. The event is free of charge\, and everyone is welcome to join!
URL:https://sumppi.net/en/tapahtuma/musakahvila-4/
LOCATION:Kiteen kansanopisto\, Opistontie 7\, Kitee\, 82500\, Finland
CATEGORIES:musiikkikielikahvila
ATTACH;FMTTYPE=image/png:https://sumppi.net/wp-content/uploads/2025/09/Musakahvila-joulukuu-25.png
END:VEVENT
BEGIN:VEVENT
DTSTART;TZID=Europe/Helsinki:20251215T160000
DTEND;TZID=Europe/Helsinki:20251215T170000
DTSTAMP:20260423T131608
CREATED:20250818T132042Z
LAST-MODIFIED:20250818T132042Z
UID:10000323-1765814400-1765818000@sumppi.net
SUMMARY:Alkeistason suomea
DESCRIPTION:Aloittelijoille suunnattu kielikahvila kokoontuu joka toinen maanantai klo 16–17 ajalla 15.9.–15.12.2025 (ei viikolla 42). Ryhmässä harjoitellaan arjen tilanteissa tarvittavia fraaseja ja sanastoa\, kuten tervehtimistä\, esittäytymistä\, kaupassa ja kahvilassa asioimista\, kodin ja perheen sanastoa\, ruokaa sekä ajan ilmaisemista. Englanti toimii tukikielenä\, jotta oppiminen on sujuvaa. Tapaamiset Google Meetin kautta vaikka älypuhelimella. Lisämateriaalia on saatavilla Peda.net-oppimisympäristössä. Ryhmä kokoontuu yhteensä seitsemän kertaa. Voit tulla mukaan kun pääset! Ei erikseen ilmoittautumista. Tapaamisen linkki: https://meet.google.com/jdq-aiaa-gmk
URL:https://sumppi.net/en/tapahtuma/alkeistason-suomea-6/
CATEGORIES:verkkokielikahvila
ATTACH;FMTTYPE=image/png:https://sumppi.net/wp-content/uploads/2025/08/suomen-alkeet.png
LOCATION:https://sumppi.net/en/tapahtuma/alkeistason-suomea-6/
END:VEVENT
BEGIN:VEVENT
DTSTART;TZID=Europe/Helsinki:20251215T170000
DTEND;TZID=Europe/Helsinki:20251215T180000
DTSTAMP:20260423T131608
CREATED:20250818T130205Z
LAST-MODIFIED:20250818T130205Z
UID:10000316-1765818000-1765821600@sumppi.net
SUMMARY:Kulttuuria ja keskustelua maanantai-iltaisin
DESCRIPTION:Kulttuuriteemainen kielikahvila järjestetään joka toinen maanantai klo 17–18 ajalla 15.9.–15.12.2025 (ei viikolla 42). Ryhmä on suunnattu tasosta A1.3 eteenpäin. Keskustelemme ja harjoittelemme suomen kieltä erilaisten aiheiden kautta\, kuten suomalaisten juhlien ja tapojen\, musiikin\, luonnon\, ruokakulttuurin sekä suomalaisen arjen. Lisämateriaalia on saatavilla Peda.net-oppimisympäristössä. Käytämme englantia tukikielenä. Ryhmä kokoontuu yhteensä seitsemän kertaa. Ilmoittautuminen 12.9. mennessä: anu.alhainen@kiteenkansanopisto.fi
URL:https://sumppi.net/en/tapahtuma/kulttuuria-ja-keskustelua-maanantai-iltaisin-7/
CATEGORIES:verkkokielikahvila
ATTACH;FMTTYPE=image/png:https://sumppi.net/wp-content/uploads/2025/08/Kulttuuri-verkkokahvila.png
LOCATION:https://sumppi.net/en/tapahtuma/kulttuuria-ja-keskustelua-maanantai-iltaisin-7/
END:VEVENT
BEGIN:VEVENT
DTSTART;TZID=Europe/Helsinki:20251216T170000
DTEND;TZID=Europe/Helsinki:20251216T183000
DTSTAMP:20260423T131608
CREATED:20250825T071923Z
LAST-MODIFIED:20251029T081521Z
UID:10000348-1765904400-1765909800@sumppi.net
SUMMARY:Kulttuurikahvila
DESCRIPTION:Tervetuloa kulttuurikahvilaan Kontiotuvalle tiistaina klo 17.00–18.30 (Koulukuja 4\, Kontiolahti). Kulttuurikahvila on kaikille avoin ja maksuton kohtaamispaikka\, jossa harjoitellaan suomen kieltä rennossa ilmapiirissä ja tutustutaan suomalaiseen sekä eri maiden kulttuuriin. Mukaan voi tulla kuka tahansa\, kielitaidosta riippumatta – tekemällä ja yhdessä harjoittelemalla oppii. Tule viettämään mukavaa iltaa ja tapaamaan uusia ystäviä! \nLisätiedot: Maja Szwarczewska\, puh. 050 309 9250\, maja.szwarczewska@kontiolahti.fi \n********************** \nWelcome to the Cultural Café at Kontiotupa on Tuesdays at 17:00–18:30 (Koulukuja 4\, Kontiolahti). The Cultural Café is an open and free meeting place where you can practice Finnish in a relaxed atmosphere and learn about both Finnish and other cultures through fun activities. Everyone is warmly welcome regardless of language skills – by doing and practicing together you will learn. Come and spend a nice evening and meet new friends! \nMore info: Maja Szwarczewska\, puh. 050 309 9250\, maja.szwarczewska@kontiolahti.fi
URL:https://sumppi.net/en/tapahtuma/kulttuurikahvila-10/
LOCATION:Kontiotupa\, Koulukuja 4 A\, Kontiolahti\, Finland
CATEGORIES:kielikahvila,kulttuurikahvila
ATTACH;FMTTYPE=image/png:https://sumppi.net/wp-content/uploads/2025/08/Kulttuurikahvila-2025.png
END:VEVENT
END:VCALENDAR