BEGIN:VCALENDAR
VERSION:2.0
PRODID:-//Sumppi - ECPv6.15.18//NONSGML v1.0//EN
CALSCALE:GREGORIAN
METHOD:PUBLISH
X-WR-CALNAME:Sumppi
X-ORIGINAL-URL:https://sumppi.net/en
X-WR-CALDESC:Events for Sumppi
REFRESH-INTERVAL;VALUE=DURATION:PT1H
X-Robots-Tag:noindex
X-PUBLISHED-TTL:PT1H
BEGIN:VTIMEZONE
TZID:Europe/Helsinki
BEGIN:DAYLIGHT
TZOFFSETFROM:+0200
TZOFFSETTO:+0300
TZNAME:EEST
DTSTART:20240331T010000
END:DAYLIGHT
BEGIN:STANDARD
TZOFFSETFROM:+0300
TZOFFSETTO:+0200
TZNAME:EET
DTSTART:20241027T010000
END:STANDARD
BEGIN:DAYLIGHT
TZOFFSETFROM:+0200
TZOFFSETTO:+0300
TZNAME:EEST
DTSTART:20250330T010000
END:DAYLIGHT
BEGIN:STANDARD
TZOFFSETFROM:+0300
TZOFFSETTO:+0200
TZNAME:EET
DTSTART:20251026T010000
END:STANDARD
BEGIN:DAYLIGHT
TZOFFSETFROM:+0200
TZOFFSETTO:+0300
TZNAME:EEST
DTSTART:20260329T010000
END:DAYLIGHT
BEGIN:STANDARD
TZOFFSETFROM:+0300
TZOFFSETTO:+0200
TZNAME:EET
DTSTART:20261025T010000
END:STANDARD
END:VTIMEZONE
BEGIN:VEVENT
DTSTART;TZID=Europe/Helsinki:20250915T170000
DTEND;TZID=Europe/Helsinki:20250915T180000
DTSTAMP:20260422T024524
CREATED:20250818T125528Z
LAST-MODIFIED:20250818T125601Z
UID:10000309-1757955600-1757959200@sumppi.net
SUMMARY:Kulttuuria ja keskustelua maanantai-iltaisin
DESCRIPTION:Kulttuuriteemainen kielikahvila järjestetään joka toinen maanantai klo 17–18 ajalla 15.9.–15.12.2025 (ei viikolla 42). Ryhmä on suunnattu tasosta A1.3 eteenpäin. Keskustelemme ja harjoittelemme suomen kieltä erilaisten aiheiden kautta\, kuten suomalaisten juhlien ja tapojen\, musiikin\, luonnon\, ruokakulttuurin sekä suomalaisen arjen. Lisämateriaalia on saatavilla Peda.net-oppimisympäristössä. Käytämme englantia tukikielenä. Ryhmä kokoontuu yhteensä seitsemän kertaa. Ilmoittautuminen 12.9. mennessä: anu.alhainen@kiteenkansanopisto.fi
URL:https://sumppi.net/en/tapahtuma/kulttuuria-ja-keskustelua-maanantai-iltaisin/
CATEGORIES:verkkokielikahvila
ATTACH;FMTTYPE=image/png:https://sumppi.net/wp-content/uploads/2025/08/Kulttuuri-verkkokahvila.png
LOCATION:https://sumppi.net/en/tapahtuma/kulttuuria-ja-keskustelua-maanantai-iltaisin/
END:VEVENT
BEGIN:VEVENT
DTSTART;TZID=Europe/Helsinki:20250915T160000
DTEND;TZID=Europe/Helsinki:20250915T170000
DTSTAMP:20260422T024524
CREATED:20250818T131544Z
LAST-MODIFIED:20250818T131740Z
UID:10000317-1757952000-1757955600@sumppi.net
SUMMARY:Alkeistason suomea
DESCRIPTION:Aloittelijoille suunnattu kielikahvila kokoontuu joka toinen maanantai klo 16–17 ajalla 15.9.–15.12.2025 (ei viikolla 42). Ryhmässä harjoitellaan arjen tilanteissa tarvittavia fraaseja ja sanastoa\, kuten tervehtimistä\, esittäytymistä\, kaupassa ja kahvilassa asioimista\, kodin ja perheen sanastoa\, ruokaa sekä ajan ilmaisemista. Englanti toimii tukikielenä\, jotta oppiminen on sujuvaa. Tapaamiset Google Meetin kautta vaikka älypuhelimella. Lisämateriaalia on saatavilla Peda.net-oppimisympäristössä. Ryhmä kokoontuu yhteensä seitsemän kertaa. Voit tulla mukaan kun pääset! Ei erikseen ilmoittautumista. Tapaamisen linkki: https://meet.google.com/jdq-aiaa-gmk
URL:https://sumppi.net/en/tapahtuma/kieli-haltuun-kielioppia-torstai-iltaisin-13/
CATEGORIES:verkkokielikahvila
ATTACH;FMTTYPE=image/png:https://sumppi.net/wp-content/uploads/2025/08/suomen-alkeet.png
LOCATION:https://sumppi.net/en/tapahtuma/kieli-haltuun-kielioppia-torstai-iltaisin-13/
END:VEVENT
BEGIN:VEVENT
DTSTART;TZID=Europe/Helsinki:20250911T170000
DTEND;TZID=Europe/Helsinki:20250911T180000
DTSTAMP:20260422T024524
CREATED:20250818T114051Z
LAST-MODIFIED:20250818T121015Z
UID:10000295-1757610000-1757613600@sumppi.net
SUMMARY:Kieli haltuun! Kielioppia torstai-iltaisin
DESCRIPTION:Torstai-iltojen kielikahvila järjestetään klo 17–18 ajalla 5.9.–27.11.2025 (ei viikolla 42). Ryhmä on suunnattu tasosta A1.3 eteenpäin. Kyseessä on kielioppipainotteinen ryhmä\, jossa joka kerralla käsitellään uusi teema suomen kielen opettajan johdolla. Harjoittelemme esimerkiksi imperfektiä\, partitiivia ja sanajärjestystä askel kerrallaan rennossa ilmapiirissä. Lisämateriaalia on saatavilla Peda.net-oppimisympäristössä. Ryhmä kokoontuu yhteensä 12 kertaa. Ilmoittautuminen elokuun loppuun mennessä: anu.alhainen@kiteenkansanopisto.fi
URL:https://sumppi.net/en/tapahtuma/kieli-haltuun-kielioppia-torstai-iltaisin-2/
CATEGORIES:verkkokielikahvila
ATTACH;FMTTYPE=image/png:https://sumppi.net/wp-content/uploads/2025/08/Online-learning-class-welcome-poster-1.png
LOCATION:https://sumppi.net/en/tapahtuma/kieli-haltuun-kielioppia-torstai-iltaisin-2/
END:VEVENT
BEGIN:VEVENT
DTSTART;TZID=Europe/Helsinki:20250911T130000
DTEND;TZID=Europe/Helsinki:20250911T140000
DTSTAMP:20260422T024524
CREATED:20250829T055339Z
LAST-MODIFIED:20250904T104506Z
UID:10000353-1757595600-1757599200@sumppi.net
SUMMARY:Suomen puhumista -online class
DESCRIPTION:Suomen puhumista – verkko-opetus järjestetään tiistaisin ja torstaisin klo 13.00–14.00. Kurssi on tasolta A1.2 → ja apukielenä käytetään englantia. Jos osaat jo hieman suomea ja haluat harjoitella puhumista lisää\, tule rohkeasti mukaan! Ei tarvitse ilmoittautua etukäteen – liity vain kestolinkillä tietokoneella tai älypuhelimella. Mukaan mahtuvat kaikki halukkaat\, ja aiheet vaihtelevat viikoittain. Myös osallistujien omat toiveet otetaan huomioon!\nKlikkaa kestolinkkiä ja liity mukaan : meet.google.com/sfu-mshx-uyg \n********************************** \nSpeaking Finnish – Online Classes take place on Tuesdays and Thursdays from 13:00 to 14:00. The level is A1.2 → and the support language is English. If you already know some Finnish and want to practice speaking more\, you are warmly welcome to join! No registration is needed – just click the permanent link with your computer or smartphone. Everyone interested can take part\, and the topics vary from week to week. Participants’ own suggestions are also welcome!\nClick the link and join: meet.google.com/sfu-mshx-uyg
URL:https://sumppi.net/en/tapahtuma/suomen-puhumista-online-class-4/
CATEGORIES:verkkokielikahvila
ATTACH;FMTTYPE=image/png:https://sumppi.net/wp-content/uploads/2025/08/suomen-puhumista.png
LOCATION:meet.google.com/sfu-mshx-uyg
END:VEVENT
BEGIN:VEVENT
DTSTART;TZID=Europe/Helsinki:20250909T130000
DTEND;TZID=Europe/Helsinki:20250909T140000
DTSTAMP:20260422T024524
CREATED:20250829T055306Z
LAST-MODIFIED:20250904T104553Z
UID:10000352-1757422800-1757426400@sumppi.net
SUMMARY:Suomen puhumista -online class
DESCRIPTION:Suomen puhumista – verkko-opetus järjestetään tiistaisin ja torstaisin klo 13.00–14.00. Kurssi on tasolta A1.2 → ja apukielenä käytetään englantia. Jos osaat jo hieman suomea ja haluat harjoitella puhumista lisää\, tule rohkeasti mukaan! Ei tarvitse ilmoittautua etukäteen – liity vain kestolinkillä tietokoneella tai älypuhelimella. Mukaan mahtuvat kaikki halukkaat\, ja aiheet vaihtelevat viikoittain. Myös osallistujien omat toiveet otetaan huomioon!\nKlikkaa kestolinkkiä ja liity mukaan meet.google.com/sfu-mshx-uyg \n********************************** \nSpeaking Finnish – Online Classes take place on Tuesdays and Thursdays from 13:00 to 14:00. The level is A1.2 → and the support language is English. If you already know some Finnish and want to practice speaking more\, you are warmly welcome to join! No registration is needed – just click the permanent link with your computer or smartphone. Everyone interested can take part\, and the topics vary from week to week. Participants’ own suggestions are also welcome!\nClick the link and join: meet.google.com/sfu-mshx-uyg
URL:https://sumppi.net/en/tapahtuma/suomen-puhumista-online-class-3/
CATEGORIES:verkkokielikahvila
ATTACH;FMTTYPE=image/png:https://sumppi.net/wp-content/uploads/2025/08/suomen-puhumista.png
LOCATION:meet.google.com/sfu-mshx-uyg
END:VEVENT
BEGIN:VEVENT
DTSTART;TZID=Europe/Helsinki:20250904T170000
DTEND;TZID=Europe/Helsinki:20250904T180000
DTSTAMP:20260422T024524
CREATED:20250818T113743Z
LAST-MODIFIED:20250818T120958Z
UID:10000294-1757005200-1757008800@sumppi.net
SUMMARY:Kieli haltuun! Kielioppia torstai-iltaisin
DESCRIPTION:Torstai-iltojen kielikahvila järjestetään klo 17–18 ajalla 5.9.–27.11.2025 (ei viikolla 42). Ryhmä on suunnattu tasosta A1.3 eteenpäin. Kyseessä on kielioppipainotteinen ryhmä\, jossa joka kerralla käsitellään uusi teema suomen kielen opettajan johdolla. Harjoittelemme esimerkiksi imperfektiä\, partitiivia ja sanajärjestystä askel kerrallaan rennossa ilmapiirissä. Lisämateriaalia on saatavilla Peda.net-oppimisympäristössä. Ryhmä kokoontuu yhteensä 12 kertaa. Ilmoittautuminen elokuun loppuun mennessä: anu.alhainen@kiteenkansanopisto.fi
URL:https://sumppi.net/en/tapahtuma/kieli-haltuun-kielioppia-torstai-iltaisin/
CATEGORIES:verkkokielikahvila
ATTACH;FMTTYPE=image/png:https://sumppi.net/wp-content/uploads/2025/08/Online-learning-class-welcome-poster-1.png
LOCATION:https://sumppi.net/en/tapahtuma/kieli-haltuun-kielioppia-torstai-iltaisin/
END:VEVENT
BEGIN:VEVENT
DTSTART;TZID=Europe/Helsinki:20250904T130000
DTEND;TZID=Europe/Helsinki:20250904T140000
DTSTAMP:20260422T024524
CREATED:20250829T055221Z
LAST-MODIFIED:20250904T104353Z
UID:10000351-1756990800-1756994400@sumppi.net
SUMMARY:Suomen puhumista -online class
DESCRIPTION:Suomen puhumista – verkko-opetus järjestetään tiistaisin ja torstaisin klo 13.00–14.00. Kurssi on tasolta A1.2 → ja apukielenä käytetään englantia. Jos osaat jo hieman suomea ja haluat harjoitella puhumista lisää\, tule rohkeasti mukaan! Ei tarvitse ilmoittautua etukäteen – liity vain kestolinkillä tietokoneella tai älypuhelimella. Mukaan mahtuvat kaikki halukkaat\, ja aiheet vaihtelevat viikoittain. Myös osallistujien omat toiveet otetaan huomioon!\nKlikkaa kestolinkkiä ja liity mukaan : meet.google.com/sfu-mshx-uyg \n********************************** \nSpeaking Finnish – Online Classes take place on Tuesdays and Thursdays from 13:00 to 14:00. The level is A1.2 → and the support language is English. If you already know some Finnish and want to practice speaking more\, you are warmly welcome to join! No registration is needed – just click the permanent link with your computer or smartphone. Everyone interested can take part\, and the topics vary from week to week. Participants’ own suggestions are also welcome!\nClick the link and join: meet.google.com/sfu-mshx-uyg
URL:https://sumppi.net/en/tapahtuma/suomen-puhumista-online-class-2/
CATEGORIES:verkkokielikahvila
ATTACH;FMTTYPE=image/png:https://sumppi.net/wp-content/uploads/2025/08/suomen-puhumista.png
LOCATION:
END:VEVENT
BEGIN:VEVENT
DTSTART;TZID=Europe/Helsinki:20250903T180000
DTEND;TZID=Europe/Helsinki:20250903T193000
DTSTAMP:20260422T024524
CREATED:20250922T104507Z
LAST-MODIFIED:20250922T104507Z
UID:10000356-1756922400-1756927800@sumppi.net
SUMMARY:Musakahvila
DESCRIPTION:Kansanopiston Musakahvila järjestetään Miina Sillanpään päivänä keskiviikkona 1.10.2025 klo 18.00–19.30 Kiteen kansanopiston ruokasalissa\, jossa vietetään iltaa musiikin parissa ja lauletaan yhdessä rennossa tunnelmassa. Musakahvila tarjoaa mahdollisuuden tavata tuttuja\, jutella ja nauttia kahvista hyvässä seurassa sekä harjoitella ja käyttää suomen kieltä laulaen ja keskustellen. Illan aikana on tarjolla nuorten tekemiä kahvileipiä ostettavaksi. Tapahtumaan on vapaa pääsy ja kaikki ovat lämpimästi tervetulleita. \n************* \nMusic Café will be held on Miina Sillanpää Day\, Wednesday 1 October 2025\, from 18:00 to 19:30 in the dining hall of Kiteen Evankelinen Kansanopisto. The evening will be spent enjoying music and singing together in a relaxed atmosphere. The Music Café offers a chance to meet friends\, chat\, and enjoy coffee in good company\, while also practicing and using the Finnish language through singing and conversation. Homemade pastries baked by young people will be available for purchase. The event is free of charge and everyone is warmly welcome.
URL:https://sumppi.net/en/tapahtuma/musakahvila-2/
LOCATION:Kiteen kansanopisto\, Opistontie 7\, Kitee\, 82500\, Finland
CATEGORIES:musiikkikielikahvila
ATTACH;FMTTYPE=image/png:https://sumppi.net/wp-content/uploads/2025/09/Coming-Soon-10.png
END:VEVENT
BEGIN:VEVENT
DTSTART;TZID=Europe/Helsinki:20250903T180000
DTEND;TZID=Europe/Helsinki:20250903T193000
DTSTAMP:20260422T024524
CREATED:20250819T104847Z
LAST-MODIFIED:20250819T104847Z
UID:10000324-1756922400-1756927800@sumppi.net
SUMMARY:Musakahvila
DESCRIPTION:Kansanopiston Musakahvila järjestetään keskiviikkona 3.9.2025 klo 18.00–19.30 Kiteen kansanopiston ruokasalissa. Tapahtumassa lauletaan yhdessä ja vietetään iltaa musiikin parissa rennossa tunnelmassa. \nMusakahvila tarjoaa mahdollisuuden tavata tuttuja\, jutella ja nauttia kahvista hyvässä seurassa. Samalla harjoitellaan ja käytetään suomen kieltä yhdessä laulaen ja keskustellen. \nKahvilassa esitellään myös alkavia nettikielikahviloita\, joihin on mahdollista ilmoittautua paikan päällä. Illan aikana on lisäksi tarjolla nuorten tekemiä kahvileipiä ostettavaksi. \nTapahtumaan on vapaa pääsy ja kaikki ovat lämpimästi tervetulleita.
URL:https://sumppi.net/en/tapahtuma/musakahvila/
LOCATION:Kiteen kansanopisto\, Opistontie 7\, Kitee\, 82500\, Finland
CATEGORIES:musiikkikielikahvila
ATTACH;FMTTYPE=image/png:https://sumppi.net/wp-content/uploads/2025/08/Coming-Soon-9.png
END:VEVENT
BEGIN:VEVENT
DTSTART;TZID=Europe/Helsinki:20250902T180000
DTEND;TZID=Europe/Helsinki:20250902T193000
DTSTAMP:20260422T024524
CREATED:20250819T110500Z
LAST-MODIFIED:20250819T114449Z
UID:10000325-1756836000-1756841400@sumppi.net
SUMMARY:Kulttuurikahvila: Mennään metsään
DESCRIPTION:🌍✨ Tervetuloa Kulttuurikahvilaan Ylämyllylle! \n🌿 Teemana on suomalainen metsä.\n👟 Pue metsään sopivat kengät ja vaatteet.\n🔥 Vietämme aikaa nuotiolla ja kuljemme metsäpolkuja yhdessä. \nKulttuurikahvila on kaikille avoin ja maksuton. Metsässä jutellaan ja harjoitellaan suomen kieltä luonnosta ja ulkoilusta puhuen. Tarjolla on pientä syötävää. \nTule yksin tai yhdessä – lämpimästi tervetuloa sellaisena kuin olet! 💚 \n🌲✨ Culture Café – Let’s go to the forest! ✨🌲 \nWelcome to the Culture Café in Ylämylly! \n🌿 Theme: the Finnish forest.\n👟 Wear shoes and clothes suitable for the forest.\n🔥 We’ll spend time by the campfire and walk along forest paths together. \nThe Culture Café is open and free for everyone. In the forest\, we’ll chat and practise Finnish while talking about nature and outdoor life. Some snacks will be served. \nCome alone or bring a friend – you’re warmly welcome just as you are! 💚
URL:https://sumppi.net/en/tapahtuma/kulttuurikahvila/
LOCATION:Ylämyllyn Jäkäläpolku\, Jäkäläpolku 2 B 8\, Ylämylly\, Finland
CATEGORIES:kulttuurikahvila
ATTACH;FMTTYPE=image/jpeg:https://sumppi.net/wp-content/uploads/2025/08/mennaan-metsaan.jpg
END:VEVENT
BEGIN:VEVENT
DTSTART;TZID=Europe/Helsinki:20250902T170000
DTEND;TZID=Europe/Helsinki:20250902T183000
DTSTAMP:20260422T024524
CREATED:20250825T071539Z
LAST-MODIFIED:20250825T071637Z
UID:10000341-1756832400-1756837800@sumppi.net
SUMMARY:Kulttuurikahvila
DESCRIPTION:Tervetuloa kulttuurikahvilaan Kontiotuvalle tiistaina klo 17.00–18.30 (Koulukuja 4\, Kontiolahti). Kulttuurikahvila on kaikille avoin ja maksuton kohtaamispaikka\, jossa harjoitellaan suomen kieltä rennossa ilmapiirissä ja tutustutaan suomalaiseen sekä eri maiden kulttuuriin. Mukaan voi tulla kuka tahansa\, kielitaidosta riippumatta – tekemällä ja yhdessä harjoittelemalla oppii. Tule viettämään mukavaa iltaa ja tapaamaan uusia ystäviä! \nLisätiedot: Maja Szwarczewska\, puh. 050 309 9250\, maja.szwarczewska@kontiolahti.fi \n********************** \nWelcome to the Cultural Café at Kontiotupa on Tuesdays at 17:00–18:30 (Koulukuja 4\, Kontiolahti). The Cultural Café is an open and free meeting place where you can practice Finnish in a relaxed atmosphere and learn about both Finnish and other cultures through fun activities. Everyone is warmly welcome regardless of language skills – by doing and practicing together you will learn. Come and spend a nice evening and meet new friends! \nMore info: Maja Szwarczewska\, puh. 050 309 9250\, maja.szwarczewska@kontiolahti.fi
URL:https://sumppi.net/en/tapahtuma/kulttuurikahvila-3/
LOCATION:Kontiotupa\, Koulukuja 4 A\, Kontiolahti\, Finland
CATEGORIES:kielikahvila,kulttuurikahvila
ATTACH;FMTTYPE=image/jpeg:https://sumppi.net/wp-content/uploads/2025/08/kontiolahti-kulttuurikahvila2025.jpg
END:VEVENT
BEGIN:VEVENT
DTSTART;TZID=Europe/Helsinki:20250902T160000
DTEND;TZID=Europe/Helsinki:20250902T170000
DTSTAMP:20260422T024524
CREATED:20250819T125027Z
LAST-MODIFIED:20250819T125027Z
UID:10000333-1756828800-1756832400@sumppi.net
SUMMARY:Kielikahvila Juuka
DESCRIPTION:Kielikahvila on kaikille avoin rento tapahtuma\, jossa voi opetella puhumaan suomea. Kielikahvilaan ovat tervetulleita kaiken tasoiset puhujat. Sujuva kielitaito ei ole vaatimus vaan myös aloittelijat ovat tervetulleita. \nVapaamuotoisen keskustelun ja pelien avulla pääset myös tutustumaan helposti uusiin ihmisiin. \nTapahtuma on maksuton ja myös lapset ovat tervetulleita! \nOsoite: Ellinkulma (Väyryläntie 1\, 83900 Juuka) \nLisätiedot\ntiia.saarelainen@juuka.fi tai tekstiviesti numeroon 050 911 7609 \n**************************** \nLanguage Cafe\nThe language café is a relaxed event open to everyone where you can learn to speak Finnish. Speakers of all levels are welcome at the language café. Fluent language skills are not required\, and beginners are also welcome. \nThrough informal conversations and games\, you’ll also have the chance to meet new people easily. \nThe event is free of charge\, and children are also welcome! \nAddress: Ellinkulma (Väyryläntie 1\, 83900 Juuka) \nMore information\ntiia.saarelainen@juuka.fi or texting 050 911 7609
URL:https://sumppi.net/en/tapahtuma/kielikahvila-juuka/
LOCATION:Ellinkulma\, Väyryläntie 1\, Juuka\, Finland
CATEGORIES:kielikahvila
ATTACH;FMTTYPE=image/jpeg:https://sumppi.net/wp-content/uploads/2025/08/Kielikahvila-Juuka-scaled.jpg
END:VEVENT
BEGIN:VEVENT
DTSTART;TZID=Europe/Helsinki:20250902T130000
DTEND;TZID=Europe/Helsinki:20250902T140000
DTSTAMP:20260422T024524
CREATED:20250825T123525Z
LAST-MODIFIED:20250829T055128Z
UID:10000350-1756818000-1756821600@sumppi.net
SUMMARY:Suomen puhumista -online class
DESCRIPTION:Suomen puhumista – verkko-opetus järjestetään tiistaisin ja torstaisin klo 13.00–14.00. Kurssi on tasolta A1.2 → ja apukielenä käytetään englantia. Jos osaat jo hieman suomea ja haluat harjoitella puhumista lisää\, tule rohkeasti mukaan! Ei tarvitse ilmoittautua etukäteen – liity vain kestolinkillä tietokoneella tai älypuhelimella. Mukaan mahtuvat kaikki halukkaat\, ja aiheet vaihtelevat viikoittain. Myös osallistujien omat toiveet otetaan huomioon!\nKlikkaa kestolinkkiä ja liity mukaan : meet.google.com/sfu-mshx-uyg \n********************************** \nSpeaking Finnish – Online Classes take place on Tuesdays and Thursdays from 13:00 to 14:00. The level is A1.2 → and the support language is English. If you already know some Finnish and want to practice speaking more\, you are warmly welcome to join! No registration is needed – just click the permanent link with your computer or smartphone. Everyone interested can take part\, and the topics vary from week to week. Participants’ own suggestions are also welcome!\nClick the link and join: meet.google.com/sfu-mshx-uyg
URL:https://sumppi.net/en/tapahtuma/suomen-puhumista-online-class/
CATEGORIES:verkkokielikahvila
ATTACH;FMTTYPE=image/png:https://sumppi.net/wp-content/uploads/2025/08/suomen-puhumista.png
END:VEVENT
BEGIN:VEVENT
DTSTART;TZID=Europe/Helsinki:20250826T170000
DTEND;TZID=Europe/Helsinki:20250826T200000
DTSTAMP:20260422T024524
CREATED:20250825T082009Z
LAST-MODIFIED:20250825T082009Z
UID:10000349-1756227600-1756238400@sumppi.net
SUMMARY:Maahanmuuttajien ilta
DESCRIPTION:Maahanmuuttajien ilta tiistaina 26.8.2025 klo 17–20 lähimmäispalvelukeskus Iljalassa (Kalevalantie 15\, torin vieressä). Illan teemana ovat maahanmuuttajien palvelut\, harrastaminen ja vapaa-ajan toiminta sekä verkostoituminen. Tarjolla on syötävää ja juotavaa – tervetuloa! \n***************** \nImmigrants’ Evening on Tuesday 26 August 2025 at 17:00–20:00 in the Iljala community service center (Kalevalantie 15\, next to the market square). The evening’s theme is immigrant services\, hobbies and free-time activities\, and networking. Food and drinks will be served – welcome!
URL:https://sumppi.net/en/tapahtuma/maahanmuuttajien-ilta/
LOCATION:Lähimmäispalvelukeskus Iljala\, Kalevalantie 15\, Ilomantsi\, Finland
CATEGORIES:verkostoituminen
ATTACH;FMTTYPE=image/jpeg:https://sumppi.net/wp-content/uploads/2025/08/maahanmuuttajien-ilta-ilomantsi2.jpg
END:VEVENT
BEGIN:VEVENT
DTSTART;TZID=Europe/Helsinki:20250826T160000
DTEND;TZID=Europe/Helsinki:20250826T180000
DTSTAMP:20260422T024524
CREATED:20250505T141352Z
LAST-MODIFIED:20250816T074531Z
UID:10000006-1756224000-1756231200@sumppi.net
SUMMARY:Outokumpu: Yhdessä suomeksi – kielikahvila luonnossa
DESCRIPTION:Tervetuloa kielikahvilaan luontoon! Tapahtumassa tietoa Suomen luonnosta\, nuotiokahvit ja pientä purtavaa osallistujille. Paikalla kalastajia auttamassa onkimisessa. \nTapahtuma on maksuton ja avoin kaikille – tule mukaan viettämään mukavaa päivää luonnossa ja puhumaan suomea yhdessä muiden kanssa!
URL:https://sumppi.net/en/tapahtuma/outokumpu-yhdessa-suomeksi-kielikahvila-luonnossa/
LOCATION:Lasten kalapaikka\, Ravilahdentie 35\, Outokumpu\, Finland
CATEGORIES:kielikahvila
ATTACH;FMTTYPE=image/png:https://sumppi.net/wp-content/uploads/2025/05/yhdessa-suomeksi26.8.2025.png
END:VEVENT
BEGIN:VEVENT
DTSTART;TZID=Europe/Helsinki:20250819T170000
DTEND;TZID=Europe/Helsinki:20250819T183000
DTSTAMP:20260422T024524
CREATED:20250825T071107Z
LAST-MODIFIED:20250825T071141Z
UID:10000340-1755622800-1755628200@sumppi.net
SUMMARY:Kulttuurikahvila
DESCRIPTION:Tervetuloa kulttuurikahvilaan Kontiotuvalle\, Kontiolahdelle (Koulukuja 4 A) tiistaina 19.8. klo 17.00–18.30! Ensimmäisen kahvilan teemana ovat suomalaiset marjat – tutustumme erilaisiin\, myös myrkyllisiin\, ja opimme kuinka marjoja poimitaan Suomessa. Kulttuurikahvila on kaikille avoin ja maksuton kohtaamispaikka\, jossa harjoitellaan suomen kieltä rennossa ilmapiirissä ja tutustutaan suomalaiseen sekä eri maiden kulttuuriin. Mukaan ovat lämpimästi tervetulleita kaikki kielitaidosta riippumatta! Harjoittelemalla ja tekemällä oppii! \nLisätiedot: Maja Szwarczewska\, puh. 050 309 9250\, maja.szwarczewska@kontiolahti.fi
URL:https://sumppi.net/en/tapahtuma/kulttuurikahvila-2/
LOCATION:Kontiotupa\, Koulukuja 4 A\, Kontiolahti\, Finland
CATEGORIES:kielikahvila,kulttuurikahvila
ATTACH;FMTTYPE=image/jpeg:https://sumppi.net/wp-content/uploads/2025/08/kotiotupaElokuu.jpg
END:VEVENT
END:VCALENDAR