BEGIN:VCALENDAR
VERSION:2.0
PRODID:-//Sumppi - ECPv6.15.18//NONSGML v1.0//EN
CALSCALE:GREGORIAN
METHOD:PUBLISH
X-WR-CALNAME:Sumppi
X-ORIGINAL-URL:https://sumppi.net/en
X-WR-CALDESC:Events for Sumppi
REFRESH-INTERVAL;VALUE=DURATION:PT1H
X-Robots-Tag:noindex
X-PUBLISHED-TTL:PT1H
BEGIN:VTIMEZONE
TZID:Europe/Helsinki
BEGIN:DAYLIGHT
TZOFFSETFROM:+0200
TZOFFSETTO:+0300
TZNAME:EEST
DTSTART:20240331T010000
END:DAYLIGHT
BEGIN:STANDARD
TZOFFSETFROM:+0300
TZOFFSETTO:+0200
TZNAME:EET
DTSTART:20241027T010000
END:STANDARD
BEGIN:DAYLIGHT
TZOFFSETFROM:+0200
TZOFFSETTO:+0300
TZNAME:EEST
DTSTART:20250330T010000
END:DAYLIGHT
BEGIN:STANDARD
TZOFFSETFROM:+0300
TZOFFSETTO:+0200
TZNAME:EET
DTSTART:20251026T010000
END:STANDARD
BEGIN:DAYLIGHT
TZOFFSETFROM:+0200
TZOFFSETTO:+0300
TZNAME:EEST
DTSTART:20260329T010000
END:DAYLIGHT
BEGIN:STANDARD
TZOFFSETFROM:+0300
TZOFFSETTO:+0200
TZNAME:EET
DTSTART:20261025T010000
END:STANDARD
END:VTIMEZONE
BEGIN:VEVENT
DTSTART;TZID=Europe/Helsinki:20251103T160000
DTEND;TZID=Europe/Helsinki:20251103T170000
DTSTAMP:20260423T173618
CREATED:20250818T131940Z
LAST-MODIFIED:20250818T131940Z
UID:10000320-1762185600-1762189200@sumppi.net
SUMMARY:Alkeistason suomea
DESCRIPTION:Aloittelijoille suunnattu kielikahvila kokoontuu joka toinen maanantai klo 16–17 ajalla 15.9.–15.12.2025 (ei viikolla 42). Ryhmässä harjoitellaan arjen tilanteissa tarvittavia fraaseja ja sanastoa\, kuten tervehtimistä\, esittäytymistä\, kaupassa ja kahvilassa asioimista\, kodin ja perheen sanastoa\, ruokaa sekä ajan ilmaisemista. Englanti toimii tukikielenä\, jotta oppiminen on sujuvaa. Tapaamiset Google Meetin kautta vaikka älypuhelimella. Lisämateriaalia on saatavilla Peda.net-oppimisympäristössä. Ryhmä kokoontuu yhteensä seitsemän kertaa. Voit tulla mukaan kun pääset! Ei erikseen ilmoittautumista. Tapaamisen linkki: https://meet.google.com/jdq-aiaa-gmk
URL:https://sumppi.net/en/tapahtuma/alkeistason-suomea-3/
CATEGORIES:verkkokielikahvila
ATTACH;FMTTYPE=image/png:https://sumppi.net/wp-content/uploads/2025/08/suomen-alkeet.png
LOCATION:https://sumppi.net/en/tapahtuma/alkeistason-suomea-3/
END:VEVENT
BEGIN:VEVENT
DTSTART;TZID=Europe/Helsinki:20251103T170000
DTEND;TZID=Europe/Helsinki:20251103T180000
DTSTAMP:20260423T173618
CREATED:20250818T125928Z
LAST-MODIFIED:20250818T125928Z
UID:10000311-1762189200-1762192800@sumppi.net
SUMMARY:Kulttuuria ja keskustelua maanantai-iltaisin
DESCRIPTION:Kulttuuriteemainen kielikahvila järjestetään joka toinen maanantai klo 17–18 ajalla 15.9.–15.12.2025 (ei viikolla 42). Ryhmä on suunnattu tasosta A1.3 eteenpäin. Keskustelemme ja harjoittelemme suomen kieltä erilaisten aiheiden kautta\, kuten suomalaisten juhlien ja tapojen\, musiikin\, luonnon\, ruokakulttuurin sekä suomalaisen arjen. Lisämateriaalia on saatavilla Peda.net-oppimisympäristössä. Käytämme englantia tukikielenä. Ryhmä kokoontuu yhteensä seitsemän kertaa. Ilmoittautuminen 12.9. mennessä: anu.alhainen@kiteenkansanopisto.fi
URL:https://sumppi.net/en/tapahtuma/kulttuuria-ja-keskustelua-maanantai-iltaisin-4/
CATEGORIES:verkkokielikahvila
ATTACH;FMTTYPE=image/png:https://sumppi.net/wp-content/uploads/2025/08/Kulttuuri-verkkokahvila.png
LOCATION:https://sumppi.net/en/tapahtuma/kulttuuria-ja-keskustelua-maanantai-iltaisin-4/
END:VEVENT
BEGIN:VEVENT
DTSTART;TZID=Europe/Helsinki:20251104T170000
DTEND;TZID=Europe/Helsinki:20251104T183000
DTSTAMP:20260423T173618
CREATED:20250825T071820Z
LAST-MODIFIED:20251029T080355Z
UID:10000345-1762275600-1762281000@sumppi.net
SUMMARY:Kulttuurikahvila
DESCRIPTION:Tiistaina 4.11. klo 17:00 – Kulttuurikahvila \nKahvilan teemana on oman kodin kotivara. \nJos tulee flunssa\, jalka nyrjähtää tai tulee sähkökatko tai vesikatko – meillä jokaisella on hyvä olla kodin varastossa ruokaa ja juomaa\, jotta pärjäämme kotona muutaman päivän. \nMukana Tiina Anola-Pukkila Marttojen PAREMPI VARA -hankkeesta. \nMaistelemme tuorepuuroa ja näkkileipää huoneenlämmössä säilyvistä kotivaratarvikkeista. \nPelaamme yhdessä pienissä ryhmissä Varautumisen välttämätön\, tarpeellinen\, turha -peliä. \nOn myös mahdollisuus tehdä käsitöitä Siirin ja Annastiinan kanssa. \nTapahtuma on maksuton eikä tarvitse ilmoittautua etukäteen. \nTervetuloa mukaan! \n_______________________________ \nTuesday the 21th of October at 5 p.m. – The Cultural Café \nWe will talk about home emergency supply kit. \nIf you get the flu or sprain your leg or have a blackout or water outage at home – it’s good that we all have food and drink stored at home for a few days. \nWith us is Tiina from PAREMPI VARA-project. \nWe taste porridge made without cooking and crispbread from household supplies that can be stored at room temperature. \nWe play the game Necessary and Useless together in small groups. \nThere is also the opportunity to do crafts with Siiri ja Annastiina. \nThe event is free and there is no need to register in advance. \nWelcome! \n_____________________________________________ \nВторник 4.11. в 17:00 – Kulttuurikahvila \nТематика кафе – предметы первой необходимости для дома. \nЕсли вы заболели гриппом\, вы вихнули ногу или у вас отключилось электричество или вода – всем нам нужно иметь еду и питье в нашем домашнем хранилище\, чтобы мы могли выжить дома в течение нескольких дней. \nTiina Ahola-Pukkila из проекта PAREMPI  VARA организации Martat. \nМы попробуем свежую кашу и хрустящие хлебцы из домашних запасов\, которые можно хранить при комнатной температуре. \nМы играем вместе в небольших группах в игру «Нужно\, нужно\, не нужно». \nТакже есть возможность заняться рукоделием с Siiri и Annastiina. \nУчастие в мероприятии бесплатное\, и вам не нужно регистрироваться заранее. \nДобро пожаловать! \nMore info: Maja Szwarczewska\, puh. 050 309 9250\, maja.szwarczewska@kontiolahti.fi
URL:https://sumppi.net/en/tapahtuma/kulttuurikahvila-7/
LOCATION:Kontiotupa\, Koulukuja 4 A\, Kontiolahti\, Finland
CATEGORIES:kielikahvila,kulttuurikahvila
ATTACH;FMTTYPE=image/png:https://sumppi.net/wp-content/uploads/2025/08/Kulttuurikahvila-4.11.png
END:VEVENT
BEGIN:VEVENT
DTSTART;TZID=Europe/Helsinki:20251104T180000
DTEND;TZID=Europe/Helsinki:20251104T193000
DTSTAMP:20260423T173618
CREATED:20250819T115545Z
LAST-MODIFIED:20250819T115545Z
UID:10000330-1762279200-1762284600@sumppi.net
SUMMARY:Kulttuurikahvila: Joulukorttien tekoa
DESCRIPTION:Joulukorttien tekoa\nLuodaan yhdessä kauniita joulukortteja tai muita jouluun liittyviä koristeita. Tarvikkeet löytyvät paikan päältä\, tuo vain oma luovuutesi ja joulumieli! Tekemäsi kortit saat mukaasi. Tällä kerralla suunnittelemme myös kevään kielikahviloiden teemoja. Tule mukaan vaikuttamaan!\n**********************”’\nLet’s create beautiful Christmas cards or other holiday decorations together. All materials will be provided – just bring your creativity and holiday spirit! You can take the cards you make home with you. This time\, we will also plan the themes for the spring language cafés – come and share your opinion!
URL:https://sumppi.net/en/tapahtuma/kulttuurikahvila-joulukorttien-tekoa/
LOCATION:Ylämyllyn Jäkäläpolku\, Jäkäläpolku 2 B 8\, Ylämylly\, Finland
CATEGORIES:kädentaitoja,kulttuurikahvila
ATTACH;FMTTYPE=image/jpeg:https://sumppi.net/wp-content/uploads/2025/08/liperi-joulukortteja.jpg
END:VEVENT
BEGIN:VEVENT
DTSTART;TZID=Europe/Helsinki:20251105T180000
DTEND;TZID=Europe/Helsinki:20251105T193000
DTSTAMP:20260423T173618
CREATED:20250922T104840Z
LAST-MODIFIED:20250922T104840Z
UID:10000357-1762365600-1762371000@sumppi.net
SUMMARY:Musakahvila
DESCRIPTION:Kansanopiston Musakahvila järjestetään ennen isänpäivää keskiviikkona 5.11.2025 klo 18.00–19.30 Kiteen kansanopiston ruokasalissa\, jossa vietetään iltaa musiikin parissa ja lauletaan yhdessä rennossa tunnelmassa. Illan teemana on lähestyvä isänpäivä ja perhe. Musakahvila tarjoaa mahdollisuuden tavata tuttuja\, jutella ja nauttia kahvista hyvässä seurassa sekä harjoitella ja käyttää suomen kieltä laulaen ja keskustellen. Illan aikana on tarjolla nuorten tekemiä kahvileipiä ostettavaksi. Tapahtumaan on vapaa pääsy ja kaikki ovat lämpimästi tervetulleita koko perheen voimin. \n************* \nThe Folk High School’s Music Café will take place before Father’s Day on Wednesday\, 5 November 2025\, from 18:00 to 19:30 in the dining hall of Kiteen Evankelinen Kansanopisto\, where the evening will be spent with music and relaxed group singing. The theme of the evening is the upcoming Father’s Day and family. The Music Café offers a chance to meet friends\, chat\, and enjoy coffee in good company while practicing and using the Finnish language through singing and conversation. Homemade pastries baked by young people will be available for purchase. The event is free of charge\, and everyone is warmly welcome to join with the whole family.
URL:https://sumppi.net/en/tapahtuma/musakahvila-3/
LOCATION:Kiteen kansanopisto\, Opistontie 7\, Kitee\, 82500\, Finland
CATEGORIES:musiikkikielikahvila
ATTACH;FMTTYPE=image/png:https://sumppi.net/wp-content/uploads/2025/09/Musakahvila-marraskuu-25.png
END:VEVENT
BEGIN:VEVENT
DTSTART;TZID=Europe/Helsinki:20251106T170000
DTEND;TZID=Europe/Helsinki:20251106T180000
DTSTAMP:20260423T173618
CREATED:20250818T120335Z
LAST-MODIFIED:20250818T121247Z
UID:10000299-1762448400-1762452000@sumppi.net
SUMMARY:Kieli haltuun! Kielioppia torstai-iltaisin
DESCRIPTION:Torstai-iltojen kielikahvila järjestetään klo 17–18 ajalla 5.9.–27.11.2025 (ei viikolla 42). Ryhmä on suunnattu tasosta A1.3 eteenpäin. Kyseessä on kielioppipainotteinen ryhmä\, jossa joka kerralla käsitellään uusi teema suomen kielen opettajan johdolla. Harjoittelemme esimerkiksi imperfektiä\, partitiivia ja sanajärjestystä askel kerrallaan rennossa ilmapiirissä. Lisämateriaalia on saatavilla Peda.net-oppimisympäristössä. Ryhmä kokoontuu yhteensä 12 kertaa. Ilmoittautuminen elokuun loppuun mennessä: anu.alhainen@kiteenkansanopisto.fi
URL:https://sumppi.net/en/tapahtuma/kieli-haltuun-kielioppia-torstai-iltaisin-6/
CATEGORIES:verkkokielikahvila
ATTACH;FMTTYPE=image/png:https://sumppi.net/wp-content/uploads/2025/08/Online-learning-class-welcome-poster-1.png
LOCATION:https://sumppi.net/en/tapahtuma/kieli-haltuun-kielioppia-torstai-iltaisin-6/
END:VEVENT
END:VCALENDAR