BEGIN:VCALENDAR
VERSION:2.0
PRODID:-//Sumppi - ECPv6.15.18//NONSGML v1.0//EN
CALSCALE:GREGORIAN
METHOD:PUBLISH
X-WR-CALNAME:Sumppi
X-ORIGINAL-URL:https://sumppi.net/en
X-WR-CALDESC:Events for Sumppi
REFRESH-INTERVAL;VALUE=DURATION:PT1H
X-Robots-Tag:noindex
X-PUBLISHED-TTL:PT1H
BEGIN:VTIMEZONE
TZID:Europe/Helsinki
BEGIN:DAYLIGHT
TZOFFSETFROM:+0200
TZOFFSETTO:+0300
TZNAME:EEST
DTSTART:20250330T010000
END:DAYLIGHT
BEGIN:STANDARD
TZOFFSETFROM:+0300
TZOFFSETTO:+0200
TZNAME:EET
DTSTART:20251026T010000
END:STANDARD
BEGIN:DAYLIGHT
TZOFFSETFROM:+0200
TZOFFSETTO:+0300
TZNAME:EEST
DTSTART:20260329T010000
END:DAYLIGHT
BEGIN:STANDARD
TZOFFSETFROM:+0300
TZOFFSETTO:+0200
TZNAME:EET
DTSTART:20261025T010000
END:STANDARD
BEGIN:DAYLIGHT
TZOFFSETFROM:+0200
TZOFFSETTO:+0300
TZNAME:EEST
DTSTART:20270328T010000
END:DAYLIGHT
BEGIN:STANDARD
TZOFFSETFROM:+0300
TZOFFSETTO:+0200
TZNAME:EET
DTSTART:20271031T010000
END:STANDARD
END:VTIMEZONE
BEGIN:VEVENT
DTSTART;TZID=Europe/Helsinki:20260310T160000
DTEND;TZID=Europe/Helsinki:20260310T170000
DTSTAMP:20260421T190345
CREATED:20260119T102845Z
LAST-MODIFIED:20260119T102845Z
UID:10000378-1773158400-1773162000@sumppi.net
SUMMARY:Kielikahvila Juuka
DESCRIPTION:Kielikahvila on kaikille avoin rento tapahtuma\, jossa voi opetella puhumaan suomea. Kielikahvilaan ovat tervetulleita kaiken tasoiset puhujat. Sujuva kielitaito ei ole vaatimus vaan myös aloittelijat ovat tervetulleita. \nVapaamuotoisen keskustelun ja pelien avulla pääset myös tutustumaan helposti uusiin ihmisiin. \nTapahtuma on maksuton ja myös lapset ovat tervetulleita! \nOsoite: Kunnantalo (Poikolantie 1\, 83900 Juuka) \nLisätiedot\ntiia.saarelainen@juuka.fi tai tekstiviesti numeroon 050 911 7609 \n**************************** \nLanguage Cafe\nThe language café is a relaxed event open to everyone where you can learn to speak Finnish. Speakers of all levels are welcome at the language café. Fluent language skills are not required\, and beginners are also welcome. \nThrough informal conversations and games\, you’ll also have the chance to meet new people easily. \nThe event is free of charge\, and children are also welcome! \nAddress: Kunnatalo (Poikolantie 1\, 83900 Juuka) \nMore information\ntiia.saarelainen@juuka.fi or texting 050 911 7609
URL:https://sumppi.net/en/tapahtuma/kielikahvila-juuka-12/
LOCATION:Kunnantalo Juuka\, Poikolantie 1\, Juuka\, Pohjois-Karjala\, Finland
CATEGORIES:kielikahvila
ATTACH;FMTTYPE=image/png:https://sumppi.net/wp-content/uploads/2026/01/juukaKielikahvilaKevat2026.png
END:VEVENT
BEGIN:VEVENT
DTSTART;TZID=Europe/Helsinki:20260310T170000
DTEND;TZID=Europe/Helsinki:20260310T190000
DTSTAMP:20260421T190345
CREATED:20260112T093211Z
LAST-MODIFIED:20260309T122227Z
UID:10000368-1773162000-1773169200@sumppi.net
SUMMARY:Kulttuurikahvila Kontiotuvalla
DESCRIPTION:🎨 Tervetuloa maalauspajaan Kontiolahdelle – 10.3. klo 17–19\nMukana kuvataiteilija Kirsi\, joka ohjaa sinua. Aikaisempaa kokemusta ei tarvita\, kaikki osaavat ja onnistuvat!\nMyös lapset ovat tervetulleita!\n❗ Huom! – maalausryhmään mahtuu 20 henkilöä\n👉 Jos tulet\, laita viesti minulle\, varaamme sinulle maalaustarvikkeet. \nEN\n🎨 Welcome to painting workshop Kontiolahti – 10 March 2026 at 5–7 p.m.!\nVisual artist Kirsi will guide you through the painting process. No previous experience is necessary\, everyone will succeed.\nChildren are also welcome!\n❗ Note! – max 20 people\n👉 If you’re coming\, send a message to me and we’ll reserve painting supplies for you. \nRU\n🎨 Добро пожаловать на мастер-класс по живописи – 10 марта с 17 по 19 часов!\nХудожник Kirsi проведёт вас через процесс покраски. Не требуется предыдущий опыт\, каждый может и добивается успеха.\nДети тоже приветствуются!\n❗ Примечание! – Макс. 20 человек\n👉 Если придёте\, напишите мне\, мы зарезервируем для вас материалы для рисования  \nMore info: Maja Szwarczewska\, puh. 050 309 9250\, maja.szwarczewska@kontiolahti.fi
URL:https://sumppi.net/en/tapahtuma/kulttuurikahvila-kontiotuvalla-4/
LOCATION:Kontiotupa\, Koulukuja 4 A\, Kontiolahti\, Finland
CATEGORIES:kielikahvila,kulttuurikahvila,taide
ATTACH;FMTTYPE=image/jpeg:https://sumppi.net/wp-content/uploads/2026/01/maalauspaja.jpg
END:VEVENT
BEGIN:VEVENT
DTSTART;TZID=Europe/Helsinki:20260311T180000
DTEND;TZID=Europe/Helsinki:20260311T193000
DTSTAMP:20260421T190345
CREATED:20260309T115810Z
LAST-MODIFIED:20260309T115842Z
UID:10000396-1773252000-1773257400@sumppi.net
SUMMARY:Musakahvila
DESCRIPTION:Musiikkikahvila kansanopistolla – teemana karaoke \nTervetuloa kansanopiston musiikkikahvilaan! \n📅 Keskiviikko 11.3.2026\n🕕 Klo 18.00–19.30\n📍 Kansanopiston ruokasalissa \nTällä kertaa musiikkikahvilan teemana on karaoke. \nVoit: \n-laulaa karaokea\n-kuunnella musiikkia\n-jutella muiden kanssa\n-viettää mukavaa aikaa kahvin äärellä \nVoit tulla yksin tai ystävien kanssa.\nVapaa pääsy. Tervetuloa! \n**************\nMusic Café at the Folk High School – Karaoke Theme \nWelcome to the Music Café at the folk high school! \n📅 Wednesday 11 March 2026\n🕕 18:00–19:30\n📍 School dining hall \nThis time the theme of the Music Café is karaoke. \nYou can: \n-sing karaoke\n-listen to music\n-talk with other people\n-enjoy coffee and a relaxed atmosphere \nYou can come alone or with friends.\nFree entry. Welcome!
URL:https://sumppi.net/en/tapahtuma/musakahvila-maaliskuu2026/
LOCATION:Kiteen kansanopisto\, Opistontie 7\, Kitee\, 82500\, Finland
CATEGORIES:kielikahvila,musiikkikielikahvila
ATTACH;FMTTYPE=image/png:https://sumppi.net/wp-content/uploads/2026/03/Coming-Soon-13.png
END:VEVENT
BEGIN:VEVENT
DTSTART;TZID=Europe/Helsinki:20260313T080000
DTEND;TZID=Europe/Helsinki:20260313T090000
DTSTAMP:20260421T190345
CREATED:20260309T121500Z
LAST-MODIFIED:20260309T121500Z
UID:10000398-1773388800-1773392400@sumppi.net
SUMMARY:Kielikahvila verkossa: Uutisia suomeksi
DESCRIPTION:Uutiskielikahvila verkossa:\nLiity rentoon kielikahvilaan\, jossa harjoittelemme suomea ajankohtaisten uutisten avulla.\nTeams:\nPe 27.2. klo 8.00\nPe 13.3. klo 8.00\nPe 20.3. klo 8.00\nPe 27.3. klo 8.00\nKeskustelemme uutisista\, harjoittelemme sanastoa ja kielioppia.\nKaikille suomen kielen opiskelijoille tasosta riippumatta. Ei ilmoittautumista ennakkoon.\n☕ Ota kahvia ja tule puhumaan suomea mukavassa seurassa!  \nTeams-linkki: https://teams.microsoft.com/meet/35940243691769?p=2VX8MhFvSYVQCHP6Rl
URL:https://sumppi.net/en/tapahtuma/kielikahvila-verkossa-uutisia-suomeksi/
CATEGORIES:kielikahvila,verkkokielikahvila
ATTACH;FMTTYPE=image/png:https://sumppi.net/wp-content/uploads/2026/03/Gemini_Generated_Image_ft8yqrft8yqrft8y.png
END:VEVENT
END:VCALENDAR