BEGIN:VCALENDAR
VERSION:2.0
PRODID:-//Sumppi - ECPv6.15.18//NONSGML v1.0//EN
CALSCALE:GREGORIAN
METHOD:PUBLISH
X-WR-CALNAME:Sumppi
X-ORIGINAL-URL:https://sumppi.net/en
X-WR-CALDESC:Events for Sumppi
REFRESH-INTERVAL;VALUE=DURATION:PT1H
X-Robots-Tag:noindex
X-PUBLISHED-TTL:PT1H
BEGIN:VTIMEZONE
TZID:Europe/Helsinki
BEGIN:DAYLIGHT
TZOFFSETFROM:+0200
TZOFFSETTO:+0300
TZNAME:EEST
DTSTART:20250330T010000
END:DAYLIGHT
BEGIN:STANDARD
TZOFFSETFROM:+0300
TZOFFSETTO:+0200
TZNAME:EET
DTSTART:20251026T010000
END:STANDARD
BEGIN:DAYLIGHT
TZOFFSETFROM:+0200
TZOFFSETTO:+0300
TZNAME:EEST
DTSTART:20260329T010000
END:DAYLIGHT
BEGIN:STANDARD
TZOFFSETFROM:+0300
TZOFFSETTO:+0200
TZNAME:EET
DTSTART:20261025T010000
END:STANDARD
BEGIN:DAYLIGHT
TZOFFSETFROM:+0200
TZOFFSETTO:+0300
TZNAME:EEST
DTSTART:20270328T010000
END:DAYLIGHT
BEGIN:STANDARD
TZOFFSETFROM:+0300
TZOFFSETTO:+0200
TZNAME:EET
DTSTART:20271031T010000
END:STANDARD
END:VTIMEZONE
BEGIN:VEVENT
DTSTART;TZID=Europe/Helsinki:20260319T100000
DTEND;TZID=Europe/Helsinki:20260319T110000
DTSTAMP:20260423T125727
CREATED:20260209T115749Z
LAST-MODIFIED:20260209T115940Z
UID:10000387-1773914400-1773918000@sumppi.net
SUMMARY:Opi suomea lapsen kanssa
DESCRIPTION:Opi suomea lapsen kanssa \nKerho kotona oleville lapsille ja vanhemmille \nTervetuloa mukaan lämminhenkiseen kerhoon\, jossa opitaan suomen kieltä yhdessä lapsen kanssa. Kerho on tarkoitettu kotona oleville lapsille ja vanhemmille. Toiminta on rentoa ja lapsiystävällistä. \nKerhossa:\n– harjoitellaan suomen kieltä\n– ollaan yhdessä ja saadaan seuraa\n– saadaan vertaistukea vanhemmille \nPaikka: Kiteen Evankelinen Kansanopisto\nAika: torstaisin klo 10.00–11.00 \nKerrat:\n19.3.\, 26.3.\, 2.4.\, 16.4.\, 23.4. ja 30.4. \nIlmoittautuminen: WhatsApp 0400 137 506 \n**************\nLearn Finnish with your child \nA group for parents and children at home \nWelcome to a friendly group where parents and children learn Finnish together. The group is for parents who stay at home with their children. The activities are relaxed and child-friendly. \nIn the group:\n– we practice Finnish\n– we spend time together\n– parents get peer support \nPlace: Kitee Evangelical Folk High School\nTime: Thursdays at 10:00–11:00 am \nDates:\n19 Mar\, 26 Mar\, 2 Apr\, 16 Apr\, 23 Apr and 30 Apr \nRegistration: WhatsApp +358 400 137 506
URL:https://sumppi.net/en/tapahtuma/musakahvio-2/
LOCATION:Kiteen kansanopisto\, Opistontie 7\, Kitee\, 82500\, Finland
CATEGORIES:hyvinvointi,kielikahvila
ATTACH;FMTTYPE=image/png:https://sumppi.net/wp-content/uploads/2026/02/Vanhempi-lapsikerho-kansanopisto-1.png
END:VEVENT
BEGIN:VEVENT
DTSTART;TZID=Europe/Helsinki:20260320T080000
DTEND;TZID=Europe/Helsinki:20260320T090000
DTSTAMP:20260423T125727
CREATED:20260309T121537Z
LAST-MODIFIED:20260309T121537Z
UID:10000399-1773993600-1773997200@sumppi.net
SUMMARY:Kielikahvila verkossa: Uutisia suomeksi
DESCRIPTION:Uutiskielikahvila verkossa:\nLiity rentoon kielikahvilaan\, jossa harjoittelemme suomea ajankohtaisten uutisten avulla.\nTeams:\nPe 27.2. klo 8.00\nPe 13.3. klo 8.00\nPe 20.3. klo 8.00\nPe 27.3. klo 8.00\nKeskustelemme uutisista\, harjoittelemme sanastoa ja kielioppia.\nKaikille suomen kielen opiskelijoille tasosta riippumatta. Ei ilmoittautumista ennakkoon.\n☕ Ota kahvia ja tule puhumaan suomea mukavassa seurassa!  \nTeams-linkki: https://teams.microsoft.com/meet/35940243691769?p=2VX8MhFvSYVQCHP6Rl
URL:https://sumppi.net/en/tapahtuma/kielikahvila-verkossa-uutisia-suomeksi-2/
CATEGORIES:kielikahvila,verkkokielikahvila
ATTACH;FMTTYPE=image/png:https://sumppi.net/wp-content/uploads/2026/03/Gemini_Generated_Image_ft8yqrft8yqrft8y.png
END:VEVENT
END:VCALENDAR