BEGIN:VCALENDAR
VERSION:2.0
PRODID:-//Sumppi - ECPv6.15.18//NONSGML v1.0//EN
CALSCALE:GREGORIAN
METHOD:PUBLISH
X-WR-CALNAME:Sumppi
X-ORIGINAL-URL:https://sumppi.net
X-WR-CALDESC:Tapahtumat Sumppi
REFRESH-INTERVAL;VALUE=DURATION:PT1H
X-Robots-Tag:noindex
X-PUBLISHED-TTL:PT1H
BEGIN:VTIMEZONE
TZID:Europe/Helsinki
BEGIN:DAYLIGHT
TZOFFSETFROM:+0200
TZOFFSETTO:+0300
TZNAME:EEST
DTSTART:20250330T010000
END:DAYLIGHT
BEGIN:STANDARD
TZOFFSETFROM:+0300
TZOFFSETTO:+0200
TZNAME:EET
DTSTART:20251026T010000
END:STANDARD
BEGIN:DAYLIGHT
TZOFFSETFROM:+0200
TZOFFSETTO:+0300
TZNAME:EEST
DTSTART:20260329T010000
END:DAYLIGHT
BEGIN:STANDARD
TZOFFSETFROM:+0300
TZOFFSETTO:+0200
TZNAME:EET
DTSTART:20261025T010000
END:STANDARD
BEGIN:DAYLIGHT
TZOFFSETFROM:+0200
TZOFFSETTO:+0300
TZNAME:EEST
DTSTART:20270328T010000
END:DAYLIGHT
BEGIN:STANDARD
TZOFFSETFROM:+0300
TZOFFSETTO:+0200
TZNAME:EET
DTSTART:20271031T010000
END:STANDARD
END:VTIMEZONE
BEGIN:VEVENT
DTSTART;TZID=Europe/Helsinki:20260402T100000
DTEND;TZID=Europe/Helsinki:20260402T110000
DTSTAMP:20260420T005714
CREATED:20260209T120015Z
LAST-MODIFIED:20260209T120015Z
UID:10000389-1775124000-1775127600@sumppi.net
SUMMARY:Opi suomea lapsen kanssa
DESCRIPTION:Opi suomea lapsen kanssa \nKerho kotona oleville lapsille ja vanhemmille \nTervetuloa mukaan lämminhenkiseen kerhoon\, jossa opitaan suomen kieltä yhdessä lapsen kanssa. Kerho on tarkoitettu kotona oleville lapsille ja vanhemmille. Toiminta on rentoa ja lapsiystävällistä. \nKerhossa:\n– harjoitellaan suomen kieltä\n– ollaan yhdessä ja saadaan seuraa\n– saadaan vertaistukea vanhemmille \nPaikka: Kiteen Evankelinen Kansanopisto\nAika: torstaisin klo 10.00–11.00 \nKerrat:\n19.3.\, 26.3.\, 2.4.\, 16.4.\, 23.4. ja 30.4. \nIlmoittautuminen: WhatsApp 0400 137 506 \n**************\nLearn Finnish with your child \nA group for parents and children at home \nWelcome to a friendly group where parents and children learn Finnish together. The group is for parents who stay at home with their children. The activities are relaxed and child-friendly. \nIn the group:\n– we practice Finnish\n– we spend time together\n– parents get peer support \nPlace: Kitee Evangelical Folk High School\nTime: Thursdays at 10:00–11:00 am \nDates:\n19 Mar\, 26 Mar\, 2 Apr\, 16 Apr\, 23 Apr and 30 Apr \nRegistration: WhatsApp +358 400 137 506
URL:https://sumppi.net/tapahtuma/opi-suomea-lapsen-kanssa-2/
LOCATION:Kiteen kansanopisto\, Opistontie 7\, Kitee\, 82500\, Finland
CATEGORIES:hyvinvointi,kielikahvila
ATTACH;FMTTYPE=image/png:https://sumppi.net/wp-content/uploads/2026/02/Vanhempi-lapsikerho-kansanopisto-1.png
END:VEVENT
BEGIN:VEVENT
DTSTART;TZID=Europe/Helsinki:20260407T170000
DTEND;TZID=Europe/Helsinki:20260407T183000
DTSTAMP:20260420T005714
CREATED:20260112T093245Z
LAST-MODIFIED:20260112T093245Z
UID:10000370-1775581200-1775586600@sumppi.net
SUMMARY:Kulttuurikahvila Kontiotuvalla
DESCRIPTION:Tervetuloa kulttuurikahvilaan Kontiotuvalle tiistaina klo 17.00–18.30 (Koulukuja 4\, Kontiolahti). Kulttuurikahvila on kaikille avoin ja maksuton kohtaamispaikka\, jossa harjoitellaan suomen kieltä rennossa ilmapiirissä ja tutustutaan suomalaiseen sekä eri maiden kulttuuriin. Mukaan voi tulla kuka tahansa\, kielitaidosta riippumatta – tekemällä ja yhdessä harjoittelemalla oppii. Tule viettämään mukavaa iltaa ja tapaamaan uusia ystäviä! \nLisätiedot: Maja Szwarczewska\, puh. 050 309 9250\, maja.szwarczewska@kontiolahti.fi \n********************** \nWelcome to the Cultural Café at Kontiotupa on Tuesdays at 17:00–18:30 (Koulukuja 4\, Kontiolahti). The Cultural Café is an open and free meeting place where you can practice Finnish in a relaxed atmosphere and learn about both Finnish and other cultures through fun activities. Everyone is warmly welcome regardless of language skills – by doing and practicing together you will learn. Come and spend a nice evening and meet new friends! \nMore info: Maja Szwarczewska\, puh. 050 309 9250\, maja.szwarczewska@kontiolahti.fi
URL:https://sumppi.net/tapahtuma/kulttuurikahvila-kontiotuvalla-6/
LOCATION:Kontiotupa\, Koulukuja 4 A\, Kontiolahti\, Finland
CATEGORIES:kielikahvila,kulttuurikahvila
ATTACH;FMTTYPE=image/png:https://sumppi.net/wp-content/uploads/2026/01/kulttuurikahvila-2026-1.png
END:VEVENT
BEGIN:VEVENT
DTSTART;TZID=Europe/Helsinki:20260408T180000
DTEND;TZID=Europe/Helsinki:20260408T193000
DTSTAMP:20260420T005714
CREATED:20260407T131833Z
LAST-MODIFIED:20260407T131833Z
UID:10000408-1775671200-1775676600@sumppi.net
SUMMARY:Musakahvio
DESCRIPTION:🎶 Kansanopiston musakahvila 🎶 \nTervetuloa viettämään rentoa iltaa musiikin parissa! 💛 \nTällä kertaa nautitaan romanimusiikin tunnelmista ✨ \n📅 Keskiviikkona 8.4.2026\n🕕 klo 18.00–19.30\n📍 Kansanopiston ruokasalissa \nTule kahville\, tapaamaan tuttuja ja kuuntelemaan musiikkia ☕🎻\nVapaa pääsy! \n********************* \n🎶 Folk High School Music Café 🎶 \nWelcome to enjoy a relaxed evening with music! 💛 \nThis time we will enjoy the atmosphere of Roma music ✨ \n📅 Wednesday 8 April 2026\n🕕 18:00–19:30\n📍 Folk high school dining hall \nCome for coffee\, meet familiar faces\, and enjoy live music ☕🎻\nFree entry!
URL:https://sumppi.net/tapahtuma/musakahvio-3/
LOCATION:Kiteen kansanopisto\, Opistontie 7\, Kitee\, 82500\, Finland
CATEGORIES:kielikahvila,musiikkikielikahvila
ATTACH;FMTTYPE=image/png:https://sumppi.net/wp-content/uploads/2026/04/Musakahvila-huhti-26.png
END:VEVENT
BEGIN:VEVENT
DTSTART;TZID=Europe/Helsinki:20260410T080000
DTEND;TZID=Europe/Helsinki:20260410T090000
DTSTAMP:20260420T005714
CREATED:20260407T102952Z
LAST-MODIFIED:20260407T103327Z
UID:10000402-1775808000-1775811600@sumppi.net
SUMMARY:Kielikahvila verkossa: Uutisia suomeksi
DESCRIPTION:Uutiskahvila verkossa:\nLiity rentoon kielikahvilaan\, jossa harjoittelemme suomea ajankohtaisten uutisten avulla.  \nPe 10.4. klo 8.00\nPe 17.4. klo 8.00\nPe 24.4. klo 8.00\nPe 08.5. klo 8.00\nPe 15.5. klo 8.00\nPe 22.5. klo 8.00 \nKeskustelemme uutisista\, harjoittelemme sanastoa ja kielioppia.\nKaikille suomen kielen puhujille tasosta riippumatta. Ei ilmoittautumista ennakkoon.\n☕ Ota kahvia ja tule puhumaan suomea mukavassa seurassa!  \nTeams-linkki: https://teams.microsoft.com/meet/35940243691769?p=2VX8MhFvSYVQCHP6Rl
URL:https://sumppi.net/tapahtuma/kielikahvila-verkossa-uutisia-suomeksi-5/
CATEGORIES:kielikahvila,verkkokielikahvila
ATTACH;FMTTYPE=image/png:https://sumppi.net/wp-content/uploads/2026/04/Verkko-kielikahvila-uutisia.png
END:VEVENT
BEGIN:VEVENT
DTSTART;TZID=Europe/Helsinki:20260414T160000
DTEND;TZID=Europe/Helsinki:20260414T170000
DTSTAMP:20260420T005714
CREATED:20260119T102939Z
LAST-MODIFIED:20260119T102939Z
UID:10000380-1776182400-1776186000@sumppi.net
SUMMARY:Kielikahvila Juuka
DESCRIPTION:Kielikahvila on kaikille avoin rento tapahtuma\, jossa voi opetella puhumaan suomea. Kielikahvilaan ovat tervetulleita kaiken tasoiset puhujat. Sujuva kielitaito ei ole vaatimus vaan myös aloittelijat ovat tervetulleita. \nVapaamuotoisen keskustelun ja pelien avulla pääset myös tutustumaan helposti uusiin ihmisiin. \nTapahtuma on maksuton ja myös lapset ovat tervetulleita! \nOsoite: Kunnantalo (Poikolantie 1\, 83900 Juuka) \nLisätiedot\ntiia.saarelainen@juuka.fi tai tekstiviesti numeroon 050 911 7609 \n**************************** \nLanguage Cafe\nThe language café is a relaxed event open to everyone where you can learn to speak Finnish. Speakers of all levels are welcome at the language café. Fluent language skills are not required\, and beginners are also welcome. \nThrough informal conversations and games\, you’ll also have the chance to meet new people easily. \nThe event is free of charge\, and children are also welcome! \nAddress: Kunnatalo (Poikolantie 1\, 83900 Juuka) \nMore information\ntiia.saarelainen@juuka.fi or texting 050 911 7609
URL:https://sumppi.net/tapahtuma/kielikahvila-juuka-14/
LOCATION:Kunnantalo Juuka\, Poikolantie 1\, Juuka\, Pohjois-Karjala\, Finland
CATEGORIES:kielikahvila
ATTACH;FMTTYPE=image/png:https://sumppi.net/wp-content/uploads/2026/01/juukaKielikahvilaKevat2026.png
END:VEVENT
BEGIN:VEVENT
DTSTART;TZID=Europe/Helsinki:20260417T080000
DTEND;TZID=Europe/Helsinki:20260417T090000
DTSTAMP:20260420T005714
CREATED:20260407T050047Z
LAST-MODIFIED:20260407T103509Z
UID:10000403-1776412800-1776416400@sumppi.net
SUMMARY:Kielikahvila verkossa: Uutisia suomeksi
DESCRIPTION:Uutiskahvila verkossa:\nLiity rentoon kielikahvilaan\, jossa harjoittelemme suomea ajankohtaisten uutisten avulla.  \nPe 10.4. klo 8.00\nPe 17.4. klo 8.00\nPe 24.4. klo 8.00\nPe 08.5. klo 8.00\nPe 15.5. klo 8.00\nPe 22.5. klo 8.00 \nKeskustelemme uutisista\, harjoittelemme sanastoa ja kielioppia.\nKaikille suomen kielen puhujille tasosta riippumatta. Ei ilmoittautumista ennakkoon.\n☕ Ota kahvia ja tule puhumaan suomea mukavassa seurassa!  \nTeams-linkki: https://teams.microsoft.com/meet/35940243691769?p=2VX8MhFvSYVQCHP6Rl
URL:https://sumppi.net/tapahtuma/kielikahvila-verkossa-uutisia-suomeksi-6/
CATEGORIES:kielikahvila,verkkokielikahvila
ATTACH;FMTTYPE=image/png:https://sumppi.net/wp-content/uploads/2026/04/Verkko-kielikahvila-uutisia.png
END:VEVENT
BEGIN:VEVENT
DTSTART;TZID=Europe/Helsinki:20260421T170000
DTEND;TZID=Europe/Helsinki:20260421T183000
DTSTAMP:20260420T005714
CREATED:20260112T093259Z
LAST-MODIFIED:20260417T121909Z
UID:10000371-1776790800-1776796200@sumppi.net
SUMMARY:Kulttuurikahvila Kontiotuvalla
DESCRIPTION:Musiikki-ilta tulossa Kulttuurikahvilaan 21.4. \nYhdessä laulamaan ja soittamaan kanssamme saapuu Luovilta bändi ”Eero Sirviö ja nuotin vieressä on tilaa”! \nMukana myös tuttuja ja uusia vieraita Joensuusta. \nVietämme mukavaa iltaa Kontiolahden seurakunnan kodalla. Syömme jotain pientä nuotiolta ja pelaamme pihapelejä. \nTule mukaan kuuntelemaan musiikkia\, laulamaan ja tutustumaan uusia ihmisiä! \nTavataan klo 17:00 Kontiolahden seurakunnan takapihalla – Keskuskatu 26\, Kontiolahti. \nTervetuloa! \n*** \nA music evening coming to The Cultural Café on 21 April! \nA band from Luovi will be joining us to sing and play music together – a band “Eero Sirviö ja nuotin vieressä on tilaa”! \nFamiliar and new guests from Joensuu are also present. \nWe will spend a pleasant evening at the Kontiolahti’s Parish hut. We’ll enjoy some light food by campfire and play outdoor games. \nCome along to listen to music\, sing\, and meet new people! \nWe’ll meet at 5 p.m. in the backyard of the Kontiolahti’s Parish – Keskuskatu 26\, Kontiolahti. \nWelcome! \n*** \nМузыкальный вечер состоится в Kulttuurikahvila на 21.4. \nС нами будет петь и играть группа «Eero Sirviö и рядом с нотами есть место»! \nТакже будут знакомые и новые гости из Joensuu. \nМы проведём приятный вечер в шалаше прихода Kontiolahti. \nМы едим что-нибудь маленькое с костра и играем в игры во дворе. \nПриходите\, слушайте музыку\, пейте и знакомьтесь с новыми людьми! \nВстретимся в 17:00 во дворе приходского дома Kontiolahti— Keskuskatu\, 26\, Kontiolahti. \nДобро пожаловать! \nMore info: Maja Szwarczewska\, puh. 050 309 9250\, maja.szwarczewska@kontiolahti.fi
URL:https://sumppi.net/tapahtuma/kulttuurikahvila-kontiotuvalla-7/
LOCATION:Kontiolahden seurakunnan takapiha -kota\, Keskuskatu 26\, Kontiolahti\, Finland
CATEGORIES:kielikahvila,kulttuurikahvila
ATTACH;FMTTYPE=image/jpeg:https://sumppi.net/wp-content/uploads/2026/01/Kulttuurikahvila-21.4.jpg
END:VEVENT
BEGIN:VEVENT
DTSTART;TZID=Europe/Helsinki:20260424T080000
DTEND;TZID=Europe/Helsinki:20260424T090000
DTSTAMP:20260420T005714
CREATED:20260407T103606Z
LAST-MODIFIED:20260407T103606Z
UID:10000404-1777017600-1777021200@sumppi.net
SUMMARY:Kielikahvila verkossa: Uutisia suomeksi
DESCRIPTION:Uutiskahvila verkossa:\nLiity rentoon kielikahvilaan\, jossa harjoittelemme suomea ajankohtaisten uutisten avulla.  \nPe 10.4. klo 8.00\nPe 17.4. klo 8.00\nPe 24.4. klo 8.00\nPe 08.5. klo 8.00\nPe 15.5. klo 8.00\nPe 22.5. klo 8.00 \nKeskustelemme uutisista\, harjoittelemme sanastoa ja kielioppia.\nKaikille suomen kielen puhujille tasosta riippumatta. Ei ilmoittautumista ennakkoon.\n☕ Ota kahvia ja tule puhumaan suomea mukavassa seurassa!  \nTeams-linkki: https://teams.microsoft.com/meet/35940243691769?p=2VX8MhFvSYVQCHP6Rl
URL:https://sumppi.net/tapahtuma/kielikahvila-verkossa-uutisia-suomeksi-4/
CATEGORIES:kielikahvila,verkkokielikahvila
ATTACH;FMTTYPE=image/png:https://sumppi.net/wp-content/uploads/2026/04/Verkko-kielikahvila-uutisia.png
END:VEVENT
BEGIN:VEVENT
DTSTART;TZID=Europe/Helsinki:20260428T160000
DTEND;TZID=Europe/Helsinki:20260428T170000
DTSTAMP:20260420T005714
CREATED:20260119T103000Z
LAST-MODIFIED:20260119T103000Z
UID:10000381-1777392000-1777395600@sumppi.net
SUMMARY:Kielikahvila Juuka
DESCRIPTION:Kielikahvila on kaikille avoin rento tapahtuma\, jossa voi opetella puhumaan suomea. Kielikahvilaan ovat tervetulleita kaiken tasoiset puhujat. Sujuva kielitaito ei ole vaatimus vaan myös aloittelijat ovat tervetulleita. \nVapaamuotoisen keskustelun ja pelien avulla pääset myös tutustumaan helposti uusiin ihmisiin. \nTapahtuma on maksuton ja myös lapset ovat tervetulleita! \nOsoite: Kunnantalo (Poikolantie 1\, 83900 Juuka) \nLisätiedot\ntiia.saarelainen@juuka.fi tai tekstiviesti numeroon 050 911 7609 \n**************************** \nLanguage Cafe\nThe language café is a relaxed event open to everyone where you can learn to speak Finnish. Speakers of all levels are welcome at the language café. Fluent language skills are not required\, and beginners are also welcome. \nThrough informal conversations and games\, you’ll also have the chance to meet new people easily. \nThe event is free of charge\, and children are also welcome! \nAddress: Kunnatalo (Poikolantie 1\, 83900 Juuka) \nMore information\ntiia.saarelainen@juuka.fi or texting 050 911 7609
URL:https://sumppi.net/tapahtuma/kielikahvila-juuka-15/
LOCATION:Kunnantalo Juuka\, Poikolantie 1\, Juuka\, Pohjois-Karjala\, Finland
CATEGORIES:kielikahvila
ATTACH;FMTTYPE=image/png:https://sumppi.net/wp-content/uploads/2026/01/juukaKielikahvilaKevat2026.png
END:VEVENT
BEGIN:VEVENT
DTSTART;TZID=Europe/Helsinki:20260505T170000
DTEND;TZID=Europe/Helsinki:20260505T183000
DTSTAMP:20260420T005714
CREATED:20260112T093318Z
LAST-MODIFIED:20260112T093318Z
UID:10000372-1778000400-1778005800@sumppi.net
SUMMARY:Kulttuurikahvila Kontiotuvalla
DESCRIPTION:Tervetuloa kulttuurikahvilaan Kontiotuvalle tiistaina klo 17.00–18.30 (Koulukuja 4\, Kontiolahti). Kulttuurikahvila on kaikille avoin ja maksuton kohtaamispaikka\, jossa harjoitellaan suomen kieltä rennossa ilmapiirissä ja tutustutaan suomalaiseen sekä eri maiden kulttuuriin. Mukaan voi tulla kuka tahansa\, kielitaidosta riippumatta – tekemällä ja yhdessä harjoittelemalla oppii. Tule viettämään mukavaa iltaa ja tapaamaan uusia ystäviä! \nLisätiedot: Maja Szwarczewska\, puh. 050 309 9250\, maja.szwarczewska@kontiolahti.fi \n********************** \nWelcome to the Cultural Café at Kontiotupa on Tuesdays at 17:00–18:30 (Koulukuja 4\, Kontiolahti). The Cultural Café is an open and free meeting place where you can practice Finnish in a relaxed atmosphere and learn about both Finnish and other cultures through fun activities. Everyone is warmly welcome regardless of language skills – by doing and practicing together you will learn. Come and spend a nice evening and meet new friends! \nMore info: Maja Szwarczewska\, puh. 050 309 9250\, maja.szwarczewska@kontiolahti.fi
URL:https://sumppi.net/tapahtuma/kulttuurikahvila-kontiotuvalla-8/
LOCATION:Kontiotupa\, Koulukuja 4 A\, Kontiolahti\, Finland
CATEGORIES:kielikahvila,kulttuurikahvila
ATTACH;FMTTYPE=image/png:https://sumppi.net/wp-content/uploads/2026/01/kulttuurikahvila-2026-1.png
END:VEVENT
BEGIN:VEVENT
DTSTART;TZID=Europe/Helsinki:20260508T080000
DTEND;TZID=Europe/Helsinki:20260508T090000
DTSTAMP:20260420T005714
CREATED:20260407T103626Z
LAST-MODIFIED:20260407T103626Z
UID:10000405-1778227200-1778230800@sumppi.net
SUMMARY:Kielikahvila verkossa: Uutisia suomeksi
DESCRIPTION:Uutiskahvila verkossa:\nLiity rentoon kielikahvilaan\, jossa harjoittelemme suomea ajankohtaisten uutisten avulla.  \nPe 10.4. klo 8.00\nPe 17.4. klo 8.00\nPe 24.4. klo 8.00\nPe 08.5. klo 8.00\nPe 15.5. klo 8.00\nPe 22.5. klo 8.00 \nKeskustelemme uutisista\, harjoittelemme sanastoa ja kielioppia.\nKaikille suomen kielen puhujille tasosta riippumatta. Ei ilmoittautumista ennakkoon.\n☕ Ota kahvia ja tule puhumaan suomea mukavassa seurassa!  \nTeams-linkki: https://teams.microsoft.com/meet/35940243691769?p=2VX8MhFvSYVQCHP6Rl
URL:https://sumppi.net/tapahtuma/kielikahvila-verkossa-uutisia-suomeksi-7/
CATEGORIES:kielikahvila,verkkokielikahvila
ATTACH;FMTTYPE=image/png:https://sumppi.net/wp-content/uploads/2026/04/Verkko-kielikahvila-uutisia.png
END:VEVENT
BEGIN:VEVENT
DTSTART;TZID=Europe/Helsinki:20260512T160000
DTEND;TZID=Europe/Helsinki:20260512T170000
DTSTAMP:20260420T005714
CREATED:20260119T103025Z
LAST-MODIFIED:20260119T103025Z
UID:10000382-1778601600-1778605200@sumppi.net
SUMMARY:Kielikahvila Juuka
DESCRIPTION:Kielikahvila on kaikille avoin rento tapahtuma\, jossa voi opetella puhumaan suomea. Kielikahvilaan ovat tervetulleita kaiken tasoiset puhujat. Sujuva kielitaito ei ole vaatimus vaan myös aloittelijat ovat tervetulleita. \nVapaamuotoisen keskustelun ja pelien avulla pääset myös tutustumaan helposti uusiin ihmisiin. \nTapahtuma on maksuton ja myös lapset ovat tervetulleita! \nOsoite: Kunnantalo (Poikolantie 1\, 83900 Juuka) \nLisätiedot\ntiia.saarelainen@juuka.fi tai tekstiviesti numeroon 050 911 7609 \n**************************** \nLanguage Cafe\nThe language café is a relaxed event open to everyone where you can learn to speak Finnish. Speakers of all levels are welcome at the language café. Fluent language skills are not required\, and beginners are also welcome. \nThrough informal conversations and games\, you’ll also have the chance to meet new people easily. \nThe event is free of charge\, and children are also welcome! \nAddress: Kunnatalo (Poikolantie 1\, 83900 Juuka) \nMore information\ntiia.saarelainen@juuka.fi or texting 050 911 7609
URL:https://sumppi.net/tapahtuma/kielikahvila-juuka-16/
LOCATION:Kunnantalo Juuka\, Poikolantie 1\, Juuka\, Pohjois-Karjala\, Finland
CATEGORIES:kielikahvila
ATTACH;FMTTYPE=image/png:https://sumppi.net/wp-content/uploads/2026/01/juukaKielikahvilaKevat2026.png
END:VEVENT
BEGIN:VEVENT
DTSTART;TZID=Europe/Helsinki:20260515T080000
DTEND;TZID=Europe/Helsinki:20260515T090000
DTSTAMP:20260420T005714
CREATED:20260407T103646Z
LAST-MODIFIED:20260407T103646Z
UID:10000406-1778832000-1778835600@sumppi.net
SUMMARY:Kielikahvila verkossa: Uutisia suomeksi
DESCRIPTION:Uutiskahvila verkossa:\nLiity rentoon kielikahvilaan\, jossa harjoittelemme suomea ajankohtaisten uutisten avulla.  \nPe 10.4. klo 8.00\nPe 17.4. klo 8.00\nPe 24.4. klo 8.00\nPe 08.5. klo 8.00\nPe 15.5. klo 8.00\nPe 22.5. klo 8.00 \nKeskustelemme uutisista\, harjoittelemme sanastoa ja kielioppia.\nKaikille suomen kielen puhujille tasosta riippumatta. Ei ilmoittautumista ennakkoon.\n☕ Ota kahvia ja tule puhumaan suomea mukavassa seurassa!  \nTeams-linkki: https://teams.microsoft.com/meet/35940243691769?p=2VX8MhFvSYVQCHP6Rl
URL:https://sumppi.net/tapahtuma/kielikahvila-verkossa-uutisia-suomeksi-8/
CATEGORIES:kielikahvila,verkkokielikahvila
ATTACH;FMTTYPE=image/png:https://sumppi.net/wp-content/uploads/2026/04/Verkko-kielikahvila-uutisia.png
END:VEVENT
BEGIN:VEVENT
DTSTART;TZID=Europe/Helsinki:20260519T170000
DTEND;TZID=Europe/Helsinki:20260519T183000
DTSTAMP:20260420T005714
CREATED:20260112T093335Z
LAST-MODIFIED:20260112T093335Z
UID:10000373-1779210000-1779215400@sumppi.net
SUMMARY:Kulttuurikahvila Kontiotuvalla
DESCRIPTION:Tervetuloa kulttuurikahvilaan Kontiotuvalle tiistaina klo 17.00–18.30 (Koulukuja 4\, Kontiolahti). Kulttuurikahvila on kaikille avoin ja maksuton kohtaamispaikka\, jossa harjoitellaan suomen kieltä rennossa ilmapiirissä ja tutustutaan suomalaiseen sekä eri maiden kulttuuriin. Mukaan voi tulla kuka tahansa\, kielitaidosta riippumatta – tekemällä ja yhdessä harjoittelemalla oppii. Tule viettämään mukavaa iltaa ja tapaamaan uusia ystäviä! \nLisätiedot: Maja Szwarczewska\, puh. 050 309 9250\, maja.szwarczewska@kontiolahti.fi \n********************** \nWelcome to the Cultural Café at Kontiotupa on Tuesdays at 17:00–18:30 (Koulukuja 4\, Kontiolahti). The Cultural Café is an open and free meeting place where you can practice Finnish in a relaxed atmosphere and learn about both Finnish and other cultures through fun activities. Everyone is warmly welcome regardless of language skills – by doing and practicing together you will learn. Come and spend a nice evening and meet new friends! \nMore info: Maja Szwarczewska\, puh. 050 309 9250\, maja.szwarczewska@kontiolahti.fi
URL:https://sumppi.net/tapahtuma/kulttuurikahvila-kontiotuvalla-9/
LOCATION:Kontiotupa\, Koulukuja 4 A\, Kontiolahti\, Finland
CATEGORIES:kielikahvila,kulttuurikahvila
ATTACH;FMTTYPE=image/png:https://sumppi.net/wp-content/uploads/2026/01/kulttuurikahvila-2026-1.png
END:VEVENT
BEGIN:VEVENT
DTSTART;TZID=Europe/Helsinki:20260522T080000
DTEND;TZID=Europe/Helsinki:20260522T090000
DTSTAMP:20260420T005714
CREATED:20260407T103704Z
LAST-MODIFIED:20260407T103704Z
UID:10000407-1779436800-1779440400@sumppi.net
SUMMARY:Kielikahvila verkossa: Uutisia suomeksi
DESCRIPTION:Uutiskahvila verkossa:\nLiity rentoon kielikahvilaan\, jossa harjoittelemme suomea ajankohtaisten uutisten avulla.  \nPe 10.4. klo 8.00\nPe 17.4. klo 8.00\nPe 24.4. klo 8.00\nPe 08.5. klo 8.00\nPe 15.5. klo 8.00\nPe 22.5. klo 8.00 \nKeskustelemme uutisista\, harjoittelemme sanastoa ja kielioppia.\nKaikille suomen kielen puhujille tasosta riippumatta. Ei ilmoittautumista ennakkoon.\n☕ Ota kahvia ja tule puhumaan suomea mukavassa seurassa!  \nTeams-linkki: https://teams.microsoft.com/meet/35940243691769?p=2VX8MhFvSYVQCHP6Rl
URL:https://sumppi.net/tapahtuma/kielikahvila-verkossa-uutisia-suomeksi-9/
CATEGORIES:kielikahvila,verkkokielikahvila
ATTACH;FMTTYPE=image/png:https://sumppi.net/wp-content/uploads/2026/04/Verkko-kielikahvila-uutisia.png
END:VEVENT
BEGIN:VEVENT
DTSTART;TZID=Europe/Helsinki:20260526T160000
DTEND;TZID=Europe/Helsinki:20260526T170000
DTSTAMP:20260420T005714
CREATED:20260119T103046Z
LAST-MODIFIED:20260119T103046Z
UID:10000383-1779811200-1779814800@sumppi.net
SUMMARY:Kielikahvila Juuka
DESCRIPTION:Kielikahvila on kaikille avoin rento tapahtuma\, jossa voi opetella puhumaan suomea. Kielikahvilaan ovat tervetulleita kaiken tasoiset puhujat. Sujuva kielitaito ei ole vaatimus vaan myös aloittelijat ovat tervetulleita. \nVapaamuotoisen keskustelun ja pelien avulla pääset myös tutustumaan helposti uusiin ihmisiin. \nTapahtuma on maksuton ja myös lapset ovat tervetulleita! \nOsoite: Kunnantalo (Poikolantie 1\, 83900 Juuka) \nLisätiedot\ntiia.saarelainen@juuka.fi tai tekstiviesti numeroon 050 911 7609 \n**************************** \nLanguage Cafe\nThe language café is a relaxed event open to everyone where you can learn to speak Finnish. Speakers of all levels are welcome at the language café. Fluent language skills are not required\, and beginners are also welcome. \nThrough informal conversations and games\, you’ll also have the chance to meet new people easily. \nThe event is free of charge\, and children are also welcome! \nAddress: Kunnatalo (Poikolantie 1\, 83900 Juuka) \nMore information\ntiia.saarelainen@juuka.fi or texting 050 911 7609
URL:https://sumppi.net/tapahtuma/kielikahvila-juuka-17/
LOCATION:Kunnantalo Juuka\, Poikolantie 1\, Juuka\, Pohjois-Karjala\, Finland
CATEGORIES:kielikahvila
ATTACH;FMTTYPE=image/png:https://sumppi.net/wp-content/uploads/2026/01/juukaKielikahvilaKevat2026.png
END:VEVENT
END:VCALENDAR